BEGIN:VCALENDAR
VERSION:2.0
PRODID:-//AIR EP - ECPv6.15.18//NONSGML v1.0//EN
CALSCALE:GREGORIAN
METHOD:PUBLISH
X-WR-CALNAME:AIR EP
X-ORIGINAL-URL:https://airep.com.au
X-WR-CALDESC:Events for AIR EP
REFRESH-INTERVAL;VALUE=DURATION:PT1H
X-Robots-Tag:noindex
X-PUBLISHED-TTL:PT1H
BEGIN:VTIMEZONE
TZID:Australia/Adelaide
BEGIN:STANDARD
TZOFFSETFROM:+1030
TZOFFSETTO:+0930
TZNAME:ACST
DTSTART:20200404T163000
END:STANDARD
BEGIN:DAYLIGHT
TZOFFSETFROM:+0930
TZOFFSETTO:+1030
TZNAME:ACDT
DTSTART:20201003T163000
END:DAYLIGHT
BEGIN:STANDARD
TZOFFSETFROM:+1030
TZOFFSETTO:+0930
TZNAME:ACST
DTSTART:20210403T163000
END:STANDARD
BEGIN:DAYLIGHT
TZOFFSETFROM:+0930
TZOFFSETTO:+1030
TZNAME:ACDT
DTSTART:20211002T163000
END:DAYLIGHT
BEGIN:STANDARD
TZOFFSETFROM:+1030
TZOFFSETTO:+0930
TZNAME:ACST
DTSTART:20220402T163000
END:STANDARD
BEGIN:DAYLIGHT
TZOFFSETFROM:+0930
TZOFFSETTO:+1030
TZNAME:ACDT
DTSTART:20221001T163000
END:DAYLIGHT
END:VTIMEZONE
BEGIN:VEVENT
DTSTART;TZID=Australia/Adelaide:20210927T180000
DTEND;TZID=Australia/Adelaide:20210927T210000
DTSTAMP:20260426T053400
CREATED:20210922T235747Z
LAST-MODIFIED:20210923T032313Z
UID:10000219-1632765600-1632776400@airep.com.au
SUMMARY:MLA training and products feedback session - Cleve
DESCRIPTION:
URL:https://airep.com.au/event/mla-training-and-products-feedback-session/
LOCATION:Cleve Hotel\, 32 Fourth St\, Cleve\, SA\, 5640\, Australia
CATEGORIES:Event
ORGANIZER;CN="Josh Telfer":MAILTO:susag@airep.com.au
END:VEVENT
BEGIN:VEVENT
DTSTART;TZID=Australia/Adelaide:20210923T110000
DTEND;TZID=Australia/Adelaide:20210923T173000
DTSTAMP:20260426T053400
CREATED:20210917T070727Z
LAST-MODIFIED:20210917T070727Z
UID:10000222-1632394800-1632418200@airep.com.au
SUMMARY:Wudinna and Districts Sticky Beak Day
DESCRIPTION:
URL:https://airep.com.au/event/wudinna-and-districts-sticky-beak-day/
LOCATION:SA
CATEGORIES:Event
END:VEVENT
BEGIN:VEVENT
DTSTART;TZID=Australia/Adelaide:20210923T090000
DTEND;TZID=Australia/Adelaide:20210923T150000
DTSTAMP:20260426T053400
CREATED:20210906T232627Z
LAST-MODIFIED:20210914T010809Z
UID:10000218-1632387600-1632409200@airep.com.au
SUMMARY:WoTL Cummins Women's Crop Walk
DESCRIPTION:
URL:https://airep.com.au/event/wotl-cummins-crop-walk/
LOCATION:Cummins Golf Club\, Cummins\, SA\, 5631
CATEGORIES:Event
END:VEVENT
BEGIN:VEVENT
DTSTART;TZID=Australia/Adelaide:20210921T084500
DTEND;TZID=Australia/Adelaide:20210921T150000
DTSTAMP:20260426T053400
CREATED:20210914T010618Z
LAST-MODIFIED:20210914T010638Z
UID:10000220-1632213900-1632236400@airep.com.au
SUMMARY:WoTL Cleve Women's Crop Walk
DESCRIPTION:
URL:https://airep.com.au/event/wotl-crop-walk-cleve/
LOCATION:SA
CATEGORIES:Event
END:VEVENT
BEGIN:VEVENT
DTSTART;TZID=Australia/Adelaide:20210917T083000
DTEND;TZID=Australia/Adelaide:20210917T170000
DTSTAMP:20260426T053400
CREATED:20210906T050106Z
LAST-MODIFIED:20210914T041612Z
UID:10000216-1631867400-1631898000@airep.com.au
SUMMARY:Franklin Harbour Sticky Beak Day
DESCRIPTION:
URL:https://airep.com.au/event/franklin-harbour-sticky-beak-day/
LOCATION:Cowell Sports Club\, Cowell\, SA\, Australia
GEO:-33.678504291801;136.92301422849
END:VEVENT
BEGIN:VEVENT
DTSTART;TZID=Australia/Adelaide:20210916T110000
DTEND;TZID=Australia/Adelaide:20210916T170000
DTSTAMP:20260426T053400
CREATED:20210901T033246Z
LAST-MODIFIED:20210911T080011Z
UID:10000213-1631790000-1631811600@airep.com.au
SUMMARY:Roberts-Verran Crop Walk
DESCRIPTION:
URL:https://airep.com.au/event/roberts-verran-sticky-beak-day/
LOCATION:SA
CATEGORIES:Event
END:VEVENT
BEGIN:VEVENT
DTSTART;TZID=Australia/Adelaide:20210915T090000
DTEND;TZID=Australia/Adelaide:20210915T170000
DTSTAMP:20260426T053400
CREATED:20201203T224432Z
LAST-MODIFIED:20210813T050844Z
UID:10000184-1631696400-1631725200@airep.com.au
SUMMARY:SARDI Minnipa Agricultural Centre Annual Field Day
DESCRIPTION:
URL:https://airep.com.au/event/sardi-minnipa-agricultural-centre-annual-field-day/
LOCATION:Minnipa Agricultural Centre\, 226 McKenzie Road\, Minnipa\, SA\, 5654\, Australia
END:VEVENT
BEGIN:VEVENT
DTSTART;TZID=Australia/Adelaide:20210910T090000
DTEND;TZID=Australia/Adelaide:20210910T180000
DTSTAMP:20260426T053400
CREATED:20210901T032635Z
LAST-MODIFIED:20210906T061114Z
UID:10000211-1631264400-1631296800@airep.com.au
SUMMARY:Lock Sticky Beak Day
DESCRIPTION:
URL:https://airep.com.au/event/lock-sticky-beak-day/
LOCATION:SA
END:VEVENT
BEGIN:VEVENT
DTSTART;TZID=Australia/Adelaide:20210909T084500
DTEND;TZID=Australia/Adelaide:20210909T163000
DTSTAMP:20260426T053400
CREATED:20210901T032555Z
LAST-MODIFIED:20210906T061322Z
UID:10000210-1631177100-1631205000@airep.com.au
SUMMARY:Tuckey-Rudall Sticky Beak Day
DESCRIPTION:
URL:https://airep.com.au/event/tuckey-rudall-sticky-beak-day/
LOCATION:SA
END:VEVENT
BEGIN:VEVENT
DTSTART;TZID=Australia/Adelaide:20210908T083000
DTEND;TZID=Australia/Adelaide:20210908T170000
DTSTAMP:20260426T053400
CREATED:20210901T032454Z
LAST-MODIFIED:20210901T052916Z
UID:10000209-1631089800-1631120400@airep.com.au
SUMMARY:Buckleboo Farm Improvement Group Sticky Beak Day
DESCRIPTION:
URL:https://airep.com.au/event/buckleboo-farm-improvement-group-sticky-beak-day/
LOCATION:Buckleboo Sports Club\, Buckleboo Park\, Buckleboo\, SA\, Australia
END:VEVENT
BEGIN:VEVENT
DTSTART;TZID=Australia/Adelaide:20210907T084500
DTEND;TZID=Australia/Adelaide:20210907T153000
DTSTAMP:20260426T053400
CREATED:20210901T032801Z
LAST-MODIFIED:20210901T033141Z
UID:10000212-1631004300-1631028600@airep.com.au
SUMMARY:GRDC Growing Profit from Precision Ag workshop
DESCRIPTION:
URL:https://airep.com.au/event/precision-ag-workshop/
LOCATION:Cleve Golf Club\, Golf Dr\, Cleve\, SA\, 5640\, Australia
ORGANIZER;CN="Amy Wright":MAILTO:amy.wright@airep.com.au
END:VEVENT
BEGIN:VEVENT
DTSTART;TZID=Australia/Adelaide:20210902T090000
DTEND;TZID=Australia/Adelaide:20210902T160000
DTSTAMP:20260426T053400
CREATED:20210721T022607Z
LAST-MODIFIED:20210827T062034Z
UID:10000206-1630573200-1630598400@airep.com.au
SUMMARY:AIR EP Lower EP Crop Walk
DESCRIPTION:
URL:https://airep.com.au/event/lower-ep-crop-walk-2/
LOCATION:SA
CATEGORIES:Event
ORGANIZER;CN="Amy Wright":MAILTO:amy.wright@airep.com.au
END:VEVENT
BEGIN:VEVENT
DTSTART;TZID=Australia/Adelaide:20210826T090000
DTEND;TZID=Australia/Adelaide:20210826T123000
DTSTAMP:20260426T053400
CREATED:20210813T051645Z
LAST-MODIFIED:20210813T051645Z
UID:10000208-1629968400-1629981000@airep.com.au
SUMMARY:EP Drought Hub Workshop
DESCRIPTION:
URL:https://airep.com.au/event/ep-drought-hub-workshop/
LOCATION:Wudinna Community Club\, Medley Tce\, Wudinna\, SA\, 5652\, Australia
END:VEVENT
BEGIN:VEVENT
DTSTART;TZID=Australia/Adelaide:20210823T133000
DTEND;TZID=Australia/Adelaide:20210823T140000
DTSTAMP:20260426T053400
CREATED:20210813T051329Z
LAST-MODIFIED:20210813T051329Z
UID:10000207-1629725400-1629727200@airep.com.au
SUMMARY:AIR EP AGM
DESCRIPTION:
URL:https://airep.com.au/event/air-ep-agm/
LOCATION:SA
ORGANIZER;CN="Naomi Scholz":MAILTO:eo@airep.com.au
END:VEVENT
BEGIN:VEVENT
DTSTART;TZID=Australia/Adelaide:20210728T090000
DTEND;TZID=Australia/Adelaide:20210728T170000
DTSTAMP:20260426T053400
CREATED:20210203T041928Z
LAST-MODIFIED:20210721T022316Z
UID:10000199-1627462800-1627491600@airep.com.au
SUMMARY:GRDC Farmer Update Wudinna
DESCRIPTION:
URL:https://airep.com.au/event/grdc-farmer-update-wudinna/
LOCATION:SA
END:VEVENT
BEGIN:VEVENT
DTSTART;TZID=Australia/Adelaide:20210628T083000
DTEND;TZID=Australia/Adelaide:20210628T120000
DTSTAMP:20260426T053400
CREATED:20210602T073957Z
LAST-MODIFIED:20210602T073957Z
UID:10000205-1624869000-1624881600@airep.com.au
SUMMARY:Farming Acid Soils Workshop - Cleve
DESCRIPTION:
URL:https://airep.com.au/event/farming-acid-soils-workshop-cleve/
LOCATION:Cleve EP Field Day Site\, Birdseye Highway\, Cleve\, SA\, 5640\, Australia
CATEGORIES:Event
ORGANIZER;CN="Josh Telfer":MAILTO:susag@airep.com.au
END:VEVENT
BEGIN:VEVENT
DTSTART;TZID=Australia/Adelaide:20210625T083000
DTEND;TZID=Australia/Adelaide:20210625T120000
DTSTAMP:20260426T053400
CREATED:20210602T073831Z
LAST-MODIFIED:20210602T074017Z
UID:10000204-1624609800-1624622400@airep.com.au
SUMMARY:Farming Acid Soils Workshop - Cummins
DESCRIPTION:
URL:https://airep.com.au/event/farming-acid-soils-workshop-cummins/
LOCATION:Cummins Golf Club\, Cummins\, SA\, 5631
CATEGORIES:Event
ORGANIZER;CN="Josh Telfer":MAILTO:susag@airep.com.au
END:VEVENT
BEGIN:VEVENT
DTSTART;TZID=Australia/Adelaide:20210622T083000
DTEND;TZID=Australia/Adelaide:20210622T143000
DTSTAMP:20260426T053400
CREATED:20210514T061311Z
LAST-MODIFIED:20221222T054626Z
UID:10000203-1624350600-1624372200@airep.com.au
SUMMARY:AIR EP Member Day: Post-emergent herbicide workshop - Wudinna
DESCRIPTION:
URL:https://airep.com.au/event/air-ep-member-day-post-emergent-herbicide-workshop-2/
LOCATION:Wudinna Community Club\, Medley Tce\, Wudinna\, SA\, 5652\, Australia
CATEGORIES:Event
ORGANIZER;CN="Naomi Scholz":MAILTO:eo@airep.com.au
END:VEVENT
BEGIN:VEVENT
DTSTART;TZID=Australia/Adelaide:20210621T083000
DTEND;TZID=Australia/Adelaide:20210621T143000
DTSTAMP:20260426T053400
CREATED:20210514T061153Z
LAST-MODIFIED:20210603T052416Z
UID:10000202-1624264200-1624285800@airep.com.au
SUMMARY:AIR EP Member Day: Post-emergent herbicide workshop Ungarra
DESCRIPTION:
URL:https://airep.com.au/event/air-ep-member-day-post-emergent-herbicide-workshop/
LOCATION:Ungarra Sports Complex\, Moody Centre Rd\, Ungarra\, SA\, 5607\, Australia
ORGANIZER;CN="Naomi Scholz":MAILTO:eo@airep.com.au
END:VEVENT
BEGIN:VEVENT
DTSTART;TZID=Australia/Adelaide:20210608T093000
DTEND;TZID=Australia/Adelaide:20210608T153000
DTSTAMP:20260426T053400
CREATED:20210419T013734Z
LAST-MODIFIED:20210526T005255Z
UID:10000201-1623144600-1623166200@airep.com.au
SUMMARY:EP Regenerative Ag Forum 2021
DESCRIPTION:
URL:https://airep.com.au/event/ep-regenerative-ag-forum-2021/
LOCATION:Cleve Sports Club\, South Terrace\, Cleve\, SA\, 5640\, Australia
ORGANIZER;CN="Josh Telfer":MAILTO:susag@airep.com.au
END:VEVENT
BEGIN:VEVENT
DTSTART;TZID=Australia/Adelaide:20210331T083000
DTEND;TZID=Australia/Adelaide:20210331T120000
DTSTAMP:20260426T053400
CREATED:20201203T231856Z
LAST-MODIFIED:20210322T224634Z
UID:10000186-1617179400-1617192000@airep.com.au
SUMMARY:AIR EP Medium Rainfall RD&E Committee meeting
DESCRIPTION:
URL:https://airep.com.au/event/air-ep-medium-rainfall-rde-committee-meeting/
LOCATION:Cummins Hotel\, 36/38 Railway Terrace\,\, Cummins\, SA\, 5631\, Australia
ORGANIZER;CN="Naomi Scholz":MAILTO:eo@airep.com.au
END:VEVENT
BEGIN:VEVENT
DTSTART;TZID=Australia/Adelaide:20210330T100000
DTEND;TZID=Australia/Adelaide:20210330T150000
DTSTAMP:20260426T053400
CREATED:20201203T231816Z
LAST-MODIFIED:20210322T224107Z
UID:10000185-1617098400-1617116400@airep.com.au
SUMMARY:AIR EP Low Rainfall RD&E Committee meeting
DESCRIPTION:
URL:https://airep.com.au/event/air-ep-low-rainfall-rde-committee-meeting/
LOCATION:Wudinna Telecentre\, 44 Eyre Highway\, Wudinna\, SA\, 5652\, Australia
ORGANIZER;CN="Naomi Scholz":MAILTO:eo@airep.com.au
END:VEVENT
BEGIN:VEVENT
DTSTART;TZID=Australia/Adelaide:20210317T090000
DTEND;TZID=Australia/Adelaide:20210317T130000
DTSTAMP:20260426T053400
CREATED:20210203T041650Z
LAST-MODIFIED:20210203T041650Z
UID:10000198-1615971600-1615986000@airep.com.au
SUMMARY:GRDC Frost Risk Management Workshop Cummins
DESCRIPTION:
URL:https://airep.com.au/event/grdc-frost-risk-management-workshop-cummins/
LOCATION:Cummins Hall\, 46 Railway Terrace\, Cummins\, SA\, 5631\, Australia
CATEGORIES:Event
ORGANIZER;CN="Amy Wright":MAILTO:amy.wright@airep.com.au
END:VEVENT
BEGIN:VEVENT
DTSTART;TZID=Australia/Adelaide:20210316T133000
DTEND;TZID=Australia/Adelaide:20210316T173000
DTSTAMP:20260426T053400
CREATED:20210203T041351Z
LAST-MODIFIED:20210203T041426Z
UID:10000197-1615901400-1615915800@airep.com.au
SUMMARY:GRDC Frost Risk Management Workshop Lock
DESCRIPTION:
URL:https://airep.com.au/event/grdc-frost-risk-management-workshop/
LOCATION:Lock Football Club\, North Terrace\, Lock\, SA\, 5633\, Australia
CATEGORIES:Event
ORGANIZER;CN="Amy Wright":MAILTO:amy.wright@airep.com.au
END:VEVENT
BEGIN:VEVENT
DTSTART;TZID=Australia/Adelaide:20210312T160000
DTEND;TZID=Australia/Adelaide:20210312T190000
DTSTAMP:20260426T053400
CREATED:20210203T040916Z
LAST-MODIFIED:20210303T003237Z
UID:10000196-1615564800-1615575600@airep.com.au
SUMMARY:Minnipa/Yaninee/Mt Damper/Poochera Harvest Report Farmer Meeting
DESCRIPTION:
URL:https://airep.com.au/event/minnipa-yaninee-mt-damper-poochera-harvest-report-farmer-meeting/
LOCATION:Minnipa Sports Club\, 2 Moseley Terrace\, Minnipa\, SA\, 5654\, Australia
CATEGORIES:Event
ORGANIZER;CN="Amy Wright":MAILTO:amy.wright@airep.com.au
END:VEVENT
BEGIN:VEVENT
DTSTART;TZID=Australia/Adelaide:20210312T090000
DTEND;TZID=Australia/Adelaide:20210312T120000
DTSTAMP:20260426T053400
CREATED:20210203T040736Z
LAST-MODIFIED:20210303T003134Z
UID:10000195-1615539600-1615550400@airep.com.au
SUMMARY:Kimba/Buckleboo Harvest Report Farmer Meeting
DESCRIPTION:
URL:https://airep.com.au/event/kimba-buckleboo-harvest-report-farmer-meeting/
LOCATION:Kimba Golf Club\, 225 Buckleboo Rd\, Kimba\, SA\, 5641\, Australia
CATEGORIES:Event
ORGANIZER;CN="Amy Wright":MAILTO:amy.wright@airep.com.au
END:VEVENT
BEGIN:VEVENT
DTSTART;TZID=Australia/Adelaide:20210311T160000
DTEND;TZID=Australia/Adelaide:20210311T190000
DTSTAMP:20260426T053400
CREATED:20210203T040650Z
LAST-MODIFIED:20210303T003509Z
UID:10000194-1615478400-1615489200@airep.com.au
SUMMARY:Franklin Harbour Harvest Report Farmer Meeting
DESCRIPTION:
URL:https://airep.com.au/event/franklin-harbour-harvest-report-farmer-meeting/
LOCATION:Cowell Institute\, 8 Main St\, Cowell\, SA\, 5602\, Australia
CATEGORIES:Event
ORGANIZER;CN="Amy Wright":MAILTO:amy.wright@airep.com.au
END:VEVENT
BEGIN:VEVENT
DTSTART;TZID=Australia/Adelaide:20210311T083000
DTEND;TZID=Australia/Adelaide:20210311T120000
DTSTAMP:20260426T053400
CREATED:20210203T040523Z
LAST-MODIFIED:20210303T003602Z
UID:10000193-1615451400-1615464000@airep.com.au
SUMMARY:Rudall/Crossville/Tuckey/Darke Peak/Roberts-Verran Harvest Report Farmer Meeting
DESCRIPTION:
URL:https://airep.com.au/event/rudall-crossville-tuckey-darke-peak-roberts-verran/
LOCATION:Rudall Sports Club\, Birdseye Highway\, Rudall\, SA\, 5642\, Australia
CATEGORIES:Event
ORGANIZER;CN="Amy Wright":MAILTO:amy.wright@airep.com.au
END:VEVENT
BEGIN:VEVENT
DTSTART;TZID=Australia/Adelaide:20210310T160000
DTEND;TZID=Australia/Adelaide:20210310T190000
DTSTAMP:20260426T053400
CREATED:20210203T040151Z
LAST-MODIFIED:20210303T003824Z
UID:10000192-1615392000-1615402800@airep.com.au
SUMMARY:Warramboo/Lock/Kyancutta/Wudinna Harvest Report Farmer Meeting
DESCRIPTION:
URL:https://airep.com.au/event/warramboo-lock-kyancutta-wudinna-harvest-report-farmer-meeting/
LOCATION:Warramboo Sports Club\, 58 Club Rd\, Warramboo\, SA\, 5650\, Australia
CATEGORIES:Event
ORGANIZER;CN="Amy Wright":MAILTO:amy.wright@airep.com.au
END:VEVENT
BEGIN:VEVENT
DTSTART;TZID=Australia/Adelaide:20210310T100000
DTEND;TZID=Australia/Adelaide:20210310T130000
DTSTAMP:20260426T053400
CREATED:20210203T035913Z
LAST-MODIFIED:20210303T004005Z
UID:10000191-1615370400-1615381200@airep.com.au
SUMMARY:Elliston/Port Kenny Harvest Report Farmer Meeting
DESCRIPTION:
URL:https://airep.com.au/event/elliston-port-kenny-harvest-report-farmer-meeting/
LOCATION:Elliston Hotel\, 39 Beach Tce\, Elliston\, SA\, 5670\, Australia
CATEGORIES:Event
ORGANIZER;CN="Amy Wright":MAILTO:amy.wright@airep.com.au
END:VEVENT
END:VCALENDAR