BEGIN:VCALENDAR
VERSION:2.0
PRODID:-//AIR EP - ECPv6.15.18//NONSGML v1.0//EN
CALSCALE:GREGORIAN
METHOD:PUBLISH
X-WR-CALNAME:AIR EP
X-ORIGINAL-URL:https://airep.com.au
X-WR-CALDESC:Events for AIR EP
REFRESH-INTERVAL;VALUE=DURATION:PT1H
X-Robots-Tag:noindex
X-PUBLISHED-TTL:PT1H
BEGIN:VTIMEZONE
TZID:Australia/Adelaide
BEGIN:STANDARD
TZOFFSETFROM:+1030
TZOFFSETTO:+0930
TZNAME:ACST
DTSTART:20230401T163000
END:STANDARD
BEGIN:DAYLIGHT
TZOFFSETFROM:+0930
TZOFFSETTO:+1030
TZNAME:ACDT
DTSTART:20230930T163000
END:DAYLIGHT
BEGIN:STANDARD
TZOFFSETFROM:+1030
TZOFFSETTO:+0930
TZNAME:ACST
DTSTART:20240406T163000
END:STANDARD
BEGIN:DAYLIGHT
TZOFFSETFROM:+0930
TZOFFSETTO:+1030
TZNAME:ACDT
DTSTART:20241005T163000
END:DAYLIGHT
BEGIN:STANDARD
TZOFFSETFROM:+1030
TZOFFSETTO:+0930
TZNAME:ACST
DTSTART:20250405T163000
END:STANDARD
BEGIN:DAYLIGHT
TZOFFSETFROM:+0930
TZOFFSETTO:+1030
TZNAME:ACDT
DTSTART:20251004T163000
END:DAYLIGHT
END:VTIMEZONE
BEGIN:VEVENT
DTSTART;TZID=Australia/Adelaide:20240923T124500
DTEND;TZID=Australia/Adelaide:20240923T180000
DTSTAMP:20260425T115542
CREATED:20240917T044429Z
LAST-MODIFIED:20240917T044643Z
UID:10000377-1727095500-1727114400@airep.com.au
SUMMARY:Minnipa Sticky Beak Day (23 Sept 2024)
DESCRIPTION:
URL:https://airep.com.au/event/minnipa-sticky-beak-day-23-sept-2024/
LOCATION:SA
END:VEVENT
BEGIN:VEVENT
DTSTART;TZID=Australia/Adelaide:20240920T090000
DTEND;TZID=Australia/Adelaide:20240924T120000
DTSTAMP:20260425T115542
CREATED:20240920T005824Z
LAST-MODIFIED:20240920T005824Z
UID:10000378-1726822800-1727179200@airep.com.au
SUMMARY:Options for frosted crops (24 Sept 2024)
DESCRIPTION:
URL:https://airep.com.au/event/options-for-frosted-crops-24-sept-2024/
LOCATION:SA
END:VEVENT
BEGIN:VEVENT
DTSTART;TZID=Australia/Adelaide:20240920T090000
DTEND;TZID=Australia/Adelaide:20240920T150000
DTSTAMP:20260425T115542
CREATED:20240623T234628Z
LAST-MODIFIED:20240828T051518Z
UID:10000361-1726822800-1726844400@airep.com.au
SUMMARY:GRDC Harvester Set Up Workshop - Cummins (20 Sept 2024)
DESCRIPTION:
URL:https://airep.com.au/event/grdc-harvester-set-up-workshop-cummins/
LOCATION:4197 Bratten Way Cummins\, 4197 Bratten Way\, Cummins\, SA\, Australia
ORGANIZER;CN="Rebekah Fatchen":MAILTO:projectofficer@airep.com.au
END:VEVENT
BEGIN:VEVENT
DTSTART;TZID=Australia/Adelaide:20240919T090000
DTEND;TZID=Australia/Adelaide:20240919T170000
DTSTAMP:20260425T115542
CREATED:20240911T234857Z
LAST-MODIFIED:20240911T234857Z
UID:10000376-1726736400-1726765200@airep.com.au
SUMMARY:Roberts/Verran Ag Bureau Sticky Beak (19 Sept 2024)
DESCRIPTION:
URL:https://airep.com.au/event/roberts-verran-ag-bureau-sticky-beak-19-sept-2024-2/
LOCATION:SA
END:VEVENT
BEGIN:VEVENT
DTSTART;TZID=Australia/Adelaide:20240919T090000
DTEND;TZID=Australia/Adelaide:20240919T150000
DTSTAMP:20260425T115542
CREATED:20240624T001503Z
LAST-MODIFIED:20240828T051539Z
UID:10000362-1726736400-1726758000@airep.com.au
SUMMARY:GRDC Harvester Set Up Workshop - Wudinna (19 Sept 2024)
DESCRIPTION:
URL:https://airep.com.au/event/grdcharvesterwudinna/
LOCATION:Biggs Farm\, 107 Ucontitchie Road\, Wudinna\, South Australia\, Australia
ORGANIZER;CN="Naomi Scholz":MAILTO:eo@airep.com.au
END:VEVENT
BEGIN:VEVENT
DTSTART;VALUE=DATE:20240919
DTEND;VALUE=DATE:20240920
DTSTAMP:20260425T115542
CREATED:20240814T050938Z
LAST-MODIFIED:20240906T051217Z
UID:10000367-1726704000-1726790399@airep.com.au
SUMMARY:Far West Sticky Beak Day (19 Sept 2024)
DESCRIPTION:
URL:https://airep.com.au/event/far-west-sticky-beak-day-19-sept-2024/
LOCATION:SA
END:VEVENT
BEGIN:VEVENT
DTSTART;TZID=Australia/Adelaide:20240918T130000
DTEND;TZID=Australia/Adelaide:20240918T180000
DTSTAMP:20260425T115542
CREATED:20240814T051112Z
LAST-MODIFIED:20240916T042450Z
UID:10000368-1726664400-1726682400@airep.com.au
SUMMARY:Goode Ag Bureau Sticky Beak (18 Sept 2024)
DESCRIPTION:
URL:https://airep.com.au/event/goode-ag-bureau-sticky-beak-20-sept-2024/
LOCATION:SA
END:VEVENT
BEGIN:VEVENT
DTSTART;TZID=Australia/Adelaide:20240918T090000
DTEND;TZID=Australia/Adelaide:20240918T150000
DTSTAMP:20260425T115542
CREATED:20240624T021935Z
LAST-MODIFIED:20240828T051715Z
UID:10000363-1726650000-1726671600@airep.com.au
SUMMARY:GRDC Harvester Set Up Workshop - Kimba (18 Sept 2024)
DESCRIPTION:
URL:https://airep.com.au/event/grdcharvesterkimba/
LOCATION:Willmotts\, 382 Buckleboo Road\, Kimba\, South Australia\, 5641\, Australia
ORGANIZER;CN="Amy Wright":MAILTO:amy.wright@airep.com.au
END:VEVENT
BEGIN:VEVENT
DTSTART;TZID=Australia/Adelaide:20240911T090000
DTEND;TZID=Australia/Adelaide:20240911T170000
DTSTAMP:20260425T115542
CREATED:20240715T061310Z
LAST-MODIFIED:20240825T233513Z
UID:10000364-1726045200-1726074000@airep.com.au
SUMMARY:SARDI Minnipa Ag Centre Annual Field Day (11 Sept 2024)
DESCRIPTION:
URL:https://airep.com.au/event/sardi-minnipa-ag-centre-annual-field-day-2/
LOCATION:Minnipa Agricultural Centre\, 226 McKenzie Road\, Minnipa\, SA\, 5654\, Australia
ORGANIZER;CN="Nicole Baty":MAILTO:nicole.baty@sa.gov.au
END:VEVENT
BEGIN:VEVENT
DTSTART;TZID=Australia/Adelaide:20240910T084500
DTEND;TZID=Australia/Adelaide:20240910T130000
DTSTAMP:20260425T115542
CREATED:20240418T012937Z
LAST-MODIFIED:20240904T001947Z
UID:10000358-1725957900-1725973200@airep.com.au
SUMMARY:AIR EP Lower EP Crop Walk (10 September 2024)
DESCRIPTION:
URL:https://airep.com.au/event/lepcw24/
LOCATION:Mark Modra’s\, 1724 Strawberry Hill Road\, Edillilie\, SA\, 5630\, Australia
CATEGORIES:Event
ORGANIZER;CN="Rebekah Peters":MAILTO:projectofficer@airep.com.au
END:VEVENT
BEGIN:VEVENT
DTSTART;TZID=Australia/Adelaide:20240909T100000
DTEND;TZID=Australia/Adelaide:20240909T110000
DTSTAMP:20260425T115542
CREATED:20240902T061654Z
LAST-MODIFIED:20240902T061836Z
UID:10000372-1725876000-1725879600@airep.com.au
SUMMARY:Pastures at the Peak (9 Sept 2024)
DESCRIPTION:
URL:https://airep.com.au/event/pastures-at-the-peak/
LOCATION:Jamie Pearson’s paddock\, Cnr Davis Road and Cut Line Road\, Darke Peak\, SA\, 5642\, Australia
GEO:-33.471763625711;136.32372144208
X-APPLE-STRUCTURED-LOCATION;VALUE=URI;X-ADDRESS=Jamie Pearson’s paddock Cnr Davis Road and Cut Line Road Darke Peak SA 5642 Australia;X-APPLE-RADIUS=500;X-TITLE=Cnr Davis Road and Cut Line Road:geo:136.32372144208,-33.471763625711
END:VEVENT
BEGIN:VEVENT
DTSTART;TZID=Australia/Adelaide:20240906T080000
DTEND;TZID=Australia/Adelaide:20240906T170000
DTSTAMP:20260425T115542
CREATED:20240906T053707Z
LAST-MODIFIED:20240906T054334Z
UID:10000375-1725609600-1725642000@airep.com.au
SUMMARY:Roberts Verran Ag Bureau Sticky Beak (19 Sept\, 2024)
DESCRIPTION:
URL:https://airep.com.au/event/roberts-verran-ag-bureau-sticky-beak-19-sept-2024/
LOCATION:SA
END:VEVENT
BEGIN:VEVENT
DTSTART;TZID=Australia/Adelaide:20240905T093000
DTEND;TZID=Australia/Adelaide:20240905T150000
DTSTAMP:20260425T115542
CREATED:20240715T061713Z
LAST-MODIFIED:20240904T001919Z
UID:10000365-1725528600-1725548400@airep.com.au
SUMMARY:AIR EP/SARDI/GRDC Pulse Field Day (5 Sept 2024)
DESCRIPTION:
URL:https://airep.com.au/event/pulsefd24/
LOCATION:3880 Hundred Line Road\, Lock\, 3880 Hundred Line Road\, Lock\, SA\, 5633\, Australia
END:VEVENT
BEGIN:VEVENT
DTSTART;TZID=Australia/Adelaide:20240729T080000
DTEND;TZID=Australia/Adelaide:20240730T170000
DTSTAMP:20260425T115542
CREATED:20231004T221522Z
LAST-MODIFIED:20240613T011519Z
UID:10000301-1722240000-1722358800@airep.com.au
SUMMARY:WeedSmart Week Port Lincoln (29-30 July 2024)
DESCRIPTION:
URL:https://airep.com.au/event/weedsmart-week-port-lincoln-30-31-july-2024/
LOCATION:Port Lincoln
END:VEVENT
BEGIN:VEVENT
DTSTART;TZID=Australia/Adelaide:20240723T090000
DTEND;TZID=Australia/Adelaide:20240723T130000
DTSTAMP:20260425T115542
CREATED:20240521T001851Z
LAST-MODIFIED:20240716T022733Z
UID:10000359-1721725200-1721739600@airep.com.au
SUMMARY:GRDC Grains Research Update Lock (July 23 2024)
DESCRIPTION:
URL:https://airep.com.au/event/grdc-grains-research-update-lock-july-23-2024/
LOCATION:Lock Football Club\, North Terrace\, Lock\, SA\, 5633\, Australia
END:VEVENT
BEGIN:VEVENT
DTSTART;TZID=Australia/Adelaide:20240704T073000
DTEND;TZID=Australia/Adelaide:20240704T110000
DTSTAMP:20260425T115542
CREATED:20240325T033149Z
LAST-MODIFIED:20240625T014115Z
UID:10000355-1720078200-1720090800@airep.com.au
SUMMARY:AIR EP Member Day Upper EP (Wudinna\, 4 July 2024)
DESCRIPTION:
URL:https://airep.com.au/event/air-ep-member-day-4-july-wudinna/
LOCATION:Wudinna Community Club\, Medley Tce\, Wudinna\, SA\, 5652\, Australia
ORGANIZER;CN="Naomi Scholz":MAILTO:eo@airep.com.au
END:VEVENT
BEGIN:VEVENT
DTSTART;TZID=Australia/Adelaide:20240703T073000
DTEND;TZID=Australia/Adelaide:20240703T110000
DTSTAMP:20260425T115542
CREATED:20240326T015703Z
LAST-MODIFIED:20240625T014039Z
UID:10000356-1719991800-1720004400@airep.com.au
SUMMARY:AIR EP Member Day Lower EP (Cummins\, 3 July 2024)
DESCRIPTION:
URL:https://airep.com.au/event/air-ep-member-day-3-july-cummins/
LOCATION:Ramblers Football Clubrooms\, Ponton Gve\, Cummins\, SA\, 5631\, Australia
ORGANIZER;CN="Rebekah Fatchen":MAILTO:projectofficer@airep.com.au
END:VEVENT
BEGIN:VEVENT
DTSTART;TZID=Australia/Adelaide:20240624T180000
DTEND;TZID=Australia/Adelaide:20240624T213000
DTSTAMP:20260425T115542
CREATED:20240528T053414Z
LAST-MODIFIED:20240528T053626Z
UID:10000360-1719252000-1719264600@airep.com.au
SUMMARY:WoTL Communication in Family Business (24 June 2024)
DESCRIPTION:
URL:https://airep.com.au/event/wotl-communication-in-family-business/
LOCATION:SA
CATEGORIES:Event
END:VEVENT
BEGIN:VEVENT
DTSTART;TZID=Australia/Adelaide:20240411T090000
DTEND;TZID=Australia/Adelaide:20240411T173000
DTSTAMP:20260425T115542
CREATED:20240221T035119Z
LAST-MODIFIED:20240321T223131Z
UID:10000351-1712826000-1712856600@airep.com.au
SUMMARY:SPAA Precision Ag Expo (11 April 2024)
DESCRIPTION:
URL:https://airep.com.au/event/spaa-precision-ag-expo-11-april-2024/
LOCATION:SA
END:VEVENT
BEGIN:VEVENT
DTSTART;VALUE=DATE:20240411
DTEND;VALUE=DATE:20240412
DTSTAMP:20260425T115542
CREATED:20240130T014425Z
LAST-MODIFIED:20240212T231758Z
UID:10000336-1712793600-1712879999@airep.com.au
SUMMARY:WoTL Regenerate Rural Women Ceduna workshop 2 (11 April 2024) POSTPONED
DESCRIPTION:
URL:https://airep.com.au/event/cummins-regenerate-rural-women-program-copy-copy-copy/
LOCATION:SA
CATEGORIES:Event
END:VEVENT
BEGIN:VEVENT
DTSTART;TZID=Australia/Adelaide:20240409T073000
DTEND;TZID=Australia/Adelaide:20240409T143000
DTSTAMP:20260425T115542
CREATED:20240403T014535Z
LAST-MODIFIED:20240403T014535Z
UID:10000357-1712647800-1712673000@airep.com.au
SUMMARY:eID for Productivity and Profitability Workshop - Kyancutta (9 April 2024)
DESCRIPTION:
URL:https://airep.com.au/event/eid-for-productivity-and-profitability-workshop-kyancutta-9-april-2024/
LOCATION:SA
END:VEVENT
BEGIN:VEVENT
DTSTART;VALUE=DATE:20240409
DTEND;VALUE=DATE:20240410
DTSTAMP:20260425T115542
CREATED:20240130T013138Z
LAST-MODIFIED:20240131T015154Z
UID:10000333-1712620800-1712707199@airep.com.au
SUMMARY:WoTL Regenerate Rural Women Cummins Workshop 2 (9 April 2024)
DESCRIPTION:
URL:https://airep.com.au/event/wotl-regenerate-rural-women-cummins-orientation-copy-copy/
LOCATION:SA
END:VEVENT
BEGIN:VEVENT
DTSTART;TZID=Australia/Adelaide:20240322T110000
DTEND;TZID=Australia/Adelaide:20240322T150000
DTSTAMP:20260425T115542
CREATED:20231220T012522Z
LAST-MODIFIED:20240220T043810Z
UID:10000324-1711105200-1711119600@airep.com.au
SUMMARY:GRDC National Grower Network Forum Wangary (22 Mar 2024)
DESCRIPTION:
URL:https://airep.com.au/event/penong-nation-grower-network-forum-copy-2-copy/
LOCATION:SA
END:VEVENT
BEGIN:VEVENT
DTSTART;TZID=Australia/Adelaide:20240321T163000
DTEND;TZID=Australia/Adelaide:20240321T203000
DTSTAMP:20260425T115542
CREATED:20231220T012410Z
LAST-MODIFIED:20240220T043623Z
UID:10000323-1711038600-1711053000@airep.com.au
SUMMARY:GRDC National Grower Network Forum Port Kenny/Mt Cooper (21 Mar 2024)
DESCRIPTION:
URL:https://airep.com.au/event/penong-nation-grower-network-forum-copy-2/
LOCATION:SA
END:VEVENT
BEGIN:VEVENT
DTSTART;TZID=Australia/Adelaide:20240321T090000
DTEND;TZID=Australia/Adelaide:20240321T130000
DTSTAMP:20260425T115542
CREATED:20231220T011857Z
LAST-MODIFIED:20240220T043506Z
UID:10000322-1711011600-1711026000@airep.com.au
SUMMARY:GRDC National Grower Network Forum Wirrulla (21 Mar 2024)
DESCRIPTION:
URL:https://airep.com.au/event/penong-nation-grower-network-forum-copy/
LOCATION:SA
END:VEVENT
BEGIN:VEVENT
DTSTART;VALUE=DATE:20240321
DTEND;VALUE=DATE:20240322
DTSTAMP:20260425T115542
CREATED:20240130T013810Z
LAST-MODIFIED:20240131T015141Z
UID:10000335-1710979200-1711065599@airep.com.au
SUMMARY:WoTL Regenerate Rural Women Cummins & Ceduna Group coaching (online) (21 March)
DESCRIPTION:
URL:https://airep.com.au/event/cummins-regenerate-rural-women-program-copy-copy/
LOCATION:SA
CATEGORIES:Event
END:VEVENT
BEGIN:VEVENT
DTSTART;VALUE=DATE:20240321
DTEND;VALUE=DATE:20240322
DTSTAMP:20260425T115542
CREATED:20240130T013234Z
LAST-MODIFIED:20240201T002953Z
UID:10000345-1710979200-1711065599@airep.com.au
SUMMARY:WoTL Regenerate Rural Women Cummins Group coaching online (12 Feb 2024)
DESCRIPTION:
URL:https://airep.com.au/event/wotl-regenerate-rural-women-cummins-orientation-2/
LOCATION:SA
END:VEVENT
BEGIN:VEVENT
DTSTART;TZID=Australia/Adelaide:20240320T150000
DTEND;TZID=Australia/Adelaide:20240320T190000
DTSTAMP:20260425T115542
CREATED:20231220T011852Z
LAST-MODIFIED:20240228T043731Z
UID:10000321-1710946800-1710961200@airep.com.au
SUMMARY:GRDC National Grower Network Forum Ceduna (20 Mar 2024)
DESCRIPTION:
URL:https://airep.com.au/event/penong-nation-grower-network-forum/
LOCATION:SA
END:VEVENT
BEGIN:VEVENT
DTSTART;TZID=Australia/Adelaide:20240320T150000
DTEND;TZID=Australia/Adelaide:20240320T173000
DTSTAMP:20260425T115542
CREATED:20240220T003931Z
LAST-MODIFIED:20240227T043019Z
UID:10000348-1710946800-1710955800@airep.com.au
SUMMARY:Lentil check discussion group - Central Eyre Peninsula (20 March 2024)
DESCRIPTION:
URL:https://airep.com.au/event/19-march-2024-lentil-check-discussion-group-buckleboo-kimba-copy-copy-copy/
LOCATION:SA
END:VEVENT
BEGIN:VEVENT
DTSTART;TZID=Australia/Adelaide:20240320T090000
DTEND;TZID=Australia/Adelaide:20240320T090000
DTSTAMP:20260425T115542
CREATED:20240220T003827Z
LAST-MODIFIED:20240227T043137Z
UID:10000349-1710925200-1710925200@airep.com.au
SUMMARY:Lentil check discussion group - Western Eyre Peninsula (20 March 2024)
DESCRIPTION:
URL:https://airep.com.au/event/19-march-2024-lentil-check-discussion-group-buckleboo-kimba-copy-copy/
LOCATION:SA
END:VEVENT
END:VCALENDAR