BEGIN:VCALENDAR
VERSION:2.0
PRODID:-//AIR EP - ECPv6.15.18//NONSGML v1.0//EN
CALSCALE:GREGORIAN
METHOD:PUBLISH
X-WR-CALNAME:AIR EP
X-ORIGINAL-URL:https://airep.com.au
X-WR-CALDESC:Events for AIR EP
REFRESH-INTERVAL;VALUE=DURATION:PT1H
X-Robots-Tag:noindex
X-PUBLISHED-TTL:PT1H
BEGIN:VTIMEZONE
TZID:Australia/Adelaide
BEGIN:STANDARD
TZOFFSETFROM:+1030
TZOFFSETTO:+0930
TZNAME:ACST
DTSTART:20240406T163000
END:STANDARD
BEGIN:DAYLIGHT
TZOFFSETFROM:+0930
TZOFFSETTO:+1030
TZNAME:ACDT
DTSTART:20241005T163000
END:DAYLIGHT
BEGIN:STANDARD
TZOFFSETFROM:+1030
TZOFFSETTO:+0930
TZNAME:ACST
DTSTART:20250405T163000
END:STANDARD
BEGIN:DAYLIGHT
TZOFFSETFROM:+0930
TZOFFSETTO:+1030
TZNAME:ACDT
DTSTART:20251004T163000
END:DAYLIGHT
BEGIN:STANDARD
TZOFFSETFROM:+1030
TZOFFSETTO:+0930
TZNAME:ACST
DTSTART:20260404T163000
END:STANDARD
BEGIN:DAYLIGHT
TZOFFSETFROM:+0930
TZOFFSETTO:+1030
TZNAME:ACDT
DTSTART:20261003T163000
END:DAYLIGHT
END:VTIMEZONE
BEGIN:VEVENT
DTSTART;TZID=Australia/Adelaide:20250401T090000
DTEND;TZID=Australia/Adelaide:20250401T123000
DTSTAMP:20260425T052235
CREATED:20250226T001654Z
LAST-MODIFIED:20250226T001654Z
UID:10000404-1743498000-1743510600@airep.com.au
SUMMARY:An Introduction to Carbon Farming\, Port Lincoln (1 Apr 2025)
DESCRIPTION:
URL:https://airep.com.au/event/introcfportlincoln/
LOCATION:Port Lincoln Hotel\, 1 Lincoln Hwy\, Port Lincoln\, SA\, 5606\, Australia
ORGANIZER;CN="Amy Wright":MAILTO:amy.wright@airep.com.au
END:VEVENT
BEGIN:VEVENT
DTSTART;TZID=Australia/Adelaide:20250403T090000
DTEND;TZID=Australia/Adelaide:20250403T123000
DTSTAMP:20260425T052235
CREATED:20250226T001831Z
LAST-MODIFIED:20250320T075102Z
UID:10000405-1743670800-1743683400@airep.com.au
SUMMARY:An Introduction to Carbon Farming\, Wudinna (3 Apr 2025)
DESCRIPTION:
URL:https://airep.com.au/event/introcfwudinna/
LOCATION:Wudinna Community Club\, Medley Tce\, Wudinna\, SA\, 5652\, Australia
ORGANIZER;CN="Amy Wright":MAILTO:amy.wright@airep.com.au
END:VEVENT
BEGIN:VEVENT
DTSTART;TZID=Australia/Adelaide:20250602T083000
DTEND;TZID=Australia/Adelaide:20250603T163000
DTSTAMP:20260425T052235
CREATED:20250506T013906Z
LAST-MODIFIED:20250506T045644Z
UID:10000411-1748853000-1748968200@airep.com.au
SUMMARY:ARLF Changemaker Workshop\, Tumby Bay (2-3 June 2025)
DESCRIPTION:
URL:https://airep.com.au/event/tumby-bay-changemaker-workshop/
LOCATION:Tumby Bay Football Club\, West Terrace\, Tumby Bay\, South Australia\, 5605\, Australia
END:VEVENT
BEGIN:VEVENT
DTSTART;TZID=Australia/Adelaide:20250605T083000
DTEND;TZID=Australia/Adelaide:20250606T163000
DTSTAMP:20260425T052235
CREATED:20250506T014556Z
LAST-MODIFIED:20250506T045510Z
UID:10000412-1749112200-1749227400@airep.com.au
SUMMARY:ARLF Changemaker Workshop\, Cummins (5-6\, June 2025)
DESCRIPTION:
URL:https://airep.com.au/event/cummins-changemaker-workshop/
LOCATION:Cummins Hall\, 46 Railway Terrace\, Cummins\, SA\, 5631\, Australia
END:VEVENT
BEGIN:VEVENT
DTSTART;TZID=Australia/Adelaide:20250619T083000
DTEND;TZID=Australia/Adelaide:20250620T163000
DTSTAMP:20260425T052235
CREATED:20250506T014741Z
LAST-MODIFIED:20250506T045544Z
UID:10000413-1750321800-1750437000@airep.com.au
SUMMARY:ARLF Changemaker Workshop\, Streaky Bay (19-20 June 2025)
DESCRIPTION:
URL:https://airep.com.au/event/streakybay-changemaker-workshop/
LOCATION:Streaky Bay Hotel\, 33 Alfred Tce\, Streaky Bay\, SA\, 5680\, Australia
END:VEVENT
BEGIN:VEVENT
DTSTART;TZID=Australia/Adelaide:20250623T083000
DTEND;TZID=Australia/Adelaide:20250624T140000
DTSTAMP:20260425T052235
CREATED:20250506T014940Z
LAST-MODIFIED:20250506T045733Z
UID:10000414-1750667400-1750773600@airep.com.au
SUMMARY:ARLF Changemaker Workshop\, Wudinna (23-24 June 2025)
DESCRIPTION:
URL:https://airep.com.au/event/wudinna-changemaker-workshop/
LOCATION:Wudinna Community Club\, Medley Tce\, Wudinna\, SA\, 5652\, Australia
END:VEVENT
BEGIN:VEVENT
DTSTART;TZID=Australia/Adelaide:20250702T093000
DTEND;TZID=Australia/Adelaide:20250702T151500
DTSTAMP:20260425T052235
CREATED:20250528T053801Z
LAST-MODIFIED:20250617T042101Z
UID:10000415-1751448600-1751469300@airep.com.au
SUMMARY:GRDC Farm Business Update\, Port Lincoln (2 July 2025)
DESCRIPTION:
URL:https://airep.com.au/event/grdc-farm-business-update-port-lincoln-2-july-2025/
LOCATION:SA
ORGANIZER;CN="ORM Communications":MAILTO:admin@orm.com.au
END:VEVENT
BEGIN:VEVENT
DTSTART;TZID=Australia/Adelaide:20250703T083000
DTEND;TZID=Australia/Adelaide:20250703T103000
DTSTAMP:20260425T052235
CREATED:20250617T000709Z
LAST-MODIFIED:20250617T001302Z
UID:10000419-1751531400-1751538600@airep.com.au
SUMMARY:Opening the Fertiliser "Black Box"\, Cummins (3 July 2025)
DESCRIPTION:
URL:https://airep.com.au/event/opening-the-fertiliser-black-box-cummins-3-july-2025/
LOCATION:Cummins Hotel\, 36/38 Railway Terrace\,\, Cummins\, SA\, 5631\, Australia
ORGANIZER;CN="Rowena Norris":MAILTO:rowena.norris@airep.com.au
END:VEVENT
BEGIN:VEVENT
DTSTART;TZID=Australia/Adelaide:20250723T090000
DTEND;TZID=Australia/Adelaide:20250723T120000
DTSTAMP:20260425T052236
CREATED:20250701T055852Z
LAST-MODIFIED:20250709T233639Z
UID:10000420-1753261200-1753272000@airep.com.au
SUMMARY:Discussion session: Pre-emergent herbicides – your best friend or sometimes problem child?\, Minnipa (23 July 2025)
DESCRIPTION:
URL:https://airep.com.au/event/discussion-session-pre-emergent-herbicides-your-best-friend-or-sometimes-problem-child-minnipa-23-july-2025/
LOCATION:Minnipa Agricultural Centre\, 226 McKenzie Road\, Minnipa\, SA\, 5654\, Australia
ORGANIZER;CN="icanrural":MAILTO:erica@icanrural.com.au
END:VEVENT
BEGIN:VEVENT
DTSTART;TZID=Australia/Adelaide:20250724T080000
DTEND;TZID=Australia/Adelaide:20250725T130000
DTSTAMP:20260425T052236
CREATED:20250701T060621Z
LAST-MODIFIED:20250701T060621Z
UID:10000421-1753344000-1753448400@airep.com.au
SUMMARY:GRDC Herbicide Behaviour Workshop\, Port Lincoln (24-25 July 2025)
DESCRIPTION:
URL:https://airep.com.au/event/grdc-herbicide-behaviour-workshop-port-lincoln-24-25-july-2025/
LOCATION:Port Lincoln Hotel\, 1 Lincoln Hwy\, Port Lincoln\, SA\, 5606\, Australia
ORGANIZER;CN="icanrural":MAILTO:erica@icanrural.com.au
END:VEVENT
BEGIN:VEVENT
DTSTART;TZID=Australia/Adelaide:20250730T090000
DTEND;TZID=Australia/Adelaide:20250730T130000
DTSTAMP:20260425T052236
CREATED:20250528T054013Z
LAST-MODIFIED:20250617T042019Z
UID:10000416-1753866000-1753880400@airep.com.au
SUMMARY:GRDC Grains Research Update\, Wudinna (30 July 2025)
DESCRIPTION:
URL:https://airep.com.au/event/grdc-grains-research-update-wudinna-30-july-2025/
LOCATION:SA
ORGANIZER;CN="ORM Communications":MAILTO:admin@orm.com.au
END:VEVENT
BEGIN:VEVENT
DTSTART;TZID=Australia/Adelaide:20250731T090000
DTEND;TZID=Australia/Adelaide:20250731T130000
DTSTAMP:20260425T052236
CREATED:20250528T054133Z
LAST-MODIFIED:20250617T041952Z
UID:10000417-1753952400-1753966800@airep.com.au
SUMMARY:GRDC Grains Research Update\, Cleve (31 July 2025)
DESCRIPTION:
URL:https://airep.com.au/event/grdc-grains-research-update-cleve-31-july-2025/
LOCATION:SA
ORGANIZER;CN="ORM Communications":MAILTO:admin@orm.com.au
END:VEVENT
BEGIN:VEVENT
DTSTART;TZID=Australia/Adelaide:20250807T080000
DTEND;TZID=Australia/Adelaide:20250807T170000
DTSTAMP:20260425T052236
CREATED:20250807T054308Z
LAST-MODIFIED:20250807T054308Z
UID:10000426-1754553600-1754586000@airep.com.au
SUMMARY:Bushfire Ready\, Port Lincoln - Boston - Tiatukia (27 August 2025)
DESCRIPTION:
URL:https://airep.com.au/event/bushfire-ready-port-lincoln-boston-tiatukia-27-august-2025/
LOCATION:Port Lincoln CFS
END:VEVENT
BEGIN:VEVENT
DTSTART;TZID=Australia/Adelaide:20250807T080000
DTEND;TZID=Australia/Adelaide:20250807T170000
DTSTAMP:20260425T052236
CREATED:20250807T054439Z
LAST-MODIFIED:20250807T054439Z
UID:10000427-1754553600-1754586000@airep.com.au
SUMMARY:Firey Women\, Kimba (28 September 2025)
DESCRIPTION:
URL:https://airep.com.au/event/firey-women-kimba-28-september-2025/
LOCATION:SA
END:VEVENT
BEGIN:VEVENT
DTSTART;VALUE=DATE:20250826
DTEND;VALUE=DATE:20250827
DTSTAMP:20260425T052236
CREATED:20250806T025120Z
LAST-MODIFIED:20250815T060503Z
UID:10000423-1756166400-1756252799@airep.com.au
SUMMARY:Business Transition Workshop\, Port Lincoln (26 August 2025)
DESCRIPTION:
URL:https://airep.com.au/event/business-transition-workshop/
LOCATION:Port Lincoln Hotel\, 1 Lincoln Hwy\, Port Lincoln\, SA\, 5606\, Australia
END:VEVENT
BEGIN:VEVENT
DTSTART;VALUE=DATE:20250827
DTEND;VALUE=DATE:20250829
DTSTAMP:20260425T052236
CREATED:20250722T001510Z
LAST-MODIFIED:20250722T001510Z
UID:10000422-1756252800-1756425599@airep.com.au
SUMMARY:Carbon Ready Ag Conference (27-28 August\, Port Pirie)
DESCRIPTION:
URL:https://airep.com.au/event/carbon-ready-ag-conference-27-28-august-port-pirie/
LOCATION:SA
END:VEVENT
BEGIN:VEVENT
DTSTART;TZID=Australia/Adelaide:20250827T120000
DTEND;TZID=Australia/Adelaide:20250827T170000
DTSTAMP:20260425T052236
CREATED:20250807T011113Z
LAST-MODIFIED:20250807T011433Z
UID:10000424-1756296000-1756314000@airep.com.au
SUMMARY:EP Farm Water Security Workshop\, Warramboo (27 August\, 2025)
DESCRIPTION:
URL:https://airep.com.au/event/ep-farm-water-security-workshop-warramboo/
LOCATION:Warramboo Sports Club\, 58 Club Rd\, Warramboo\, SA\, 5650\, Australia
END:VEVENT
BEGIN:VEVENT
DTSTART;TZID=Australia/Adelaide:20250828T093000
DTEND;TZID=Australia/Adelaide:20250828T143000
DTSTAMP:20260425T052236
CREATED:20250807T011218Z
LAST-MODIFIED:20250807T011444Z
UID:10000425-1756373400-1756391400@airep.com.au
SUMMARY:EP Farm Water Security Workshop\, Wharminda (28 August 2025)
DESCRIPTION:
URL:https://airep.com.au/event/ep-farm-water-security-workshop-wharminda/
LOCATION:Wharminda Hall
END:VEVENT
BEGIN:VEVENT
DTSTART;TZID=Australia/Adelaide:20250903T100000
DTEND;TZID=Australia/Adelaide:20250903T150000
DTSTAMP:20260425T052236
CREATED:20250528T054351Z
LAST-MODIFIED:20250825T043023Z
UID:10000418-1756893600-1756911600@airep.com.au
SUMMARY:AIR EP/SARDI/GRDC Lentil Field Day\, Lock (3 September 2025)
DESCRIPTION:
URL:https://airep.com.au/event/air-ep-sardi-grdc-pulse-field-day-at-lock-3-september-2025/
LOCATION:Polkinghorne’s shed\, 11715 Birdseye Highway\, Lock\, SA\, 5633\, Australia
ORGANIZER;CN="Naomi Scholz":MAILTO:eo@airep.com.au
END:VEVENT
BEGIN:VEVENT
DTSTART;TZID=Australia/Adelaide:20250904T090000
DTEND;TZID=Australia/Adelaide:20250904T110000
DTSTAMP:20260425T052236
CREATED:20250825T071815Z
LAST-MODIFIED:20250825T072107Z
UID:10000433-1756976400-1756983600@airep.com.au
SUMMARY:Western EP Lentil Check Group (4 September 2025)
DESCRIPTION:
URL:https://airep.com.au/event/western-ep-lentil-check-group-4-september-2025/
LOCATION:SA
END:VEVENT
BEGIN:VEVENT
DTSTART;TZID=Australia/Adelaide:20250904T140000
DTEND;TZID=Australia/Adelaide:20250904T160000
DTSTAMP:20260425T052236
CREATED:20250826T004227Z
LAST-MODIFIED:20250826T004227Z
UID:10000435-1756994400-1757001600@airep.com.au
SUMMARY:Central EP Lentil Check Group (4 September 2025)
DESCRIPTION:
URL:https://airep.com.au/event/central-ep-lentil-check-group-4-september-2025-2/
LOCATION:11840 Tarragan Tanks Road\, 11840 Tarragan Tanks Road\, Mount Damper\, SA\, 5654\, Australia
END:VEVENT
BEGIN:VEVENT
DTSTART;TZID=Australia/Adelaide:20250905T090000
DTEND;TZID=Australia/Adelaide:20250905T110000
DTSTAMP:20260425T052236
CREATED:20250825T072034Z
LAST-MODIFIED:20250825T072251Z
UID:10000434-1757062800-1757070000@airep.com.au
SUMMARY:Buckleboo & Kimba Lentil Check Group (5 September 2025)
DESCRIPTION:
URL:https://airep.com.au/event/central-ep-lentil-check-group-4-september-2025/
LOCATION:SA
END:VEVENT
BEGIN:VEVENT
DTSTART;TZID=Australia/Adelaide:20250909T090000
DTEND;TZID=Australia/Adelaide:20250909T150000
DTSTAMP:20260425T052236
CREATED:20250505T045750Z
LAST-MODIFIED:20250904T051309Z
UID:10000408-1757408400-1757430000@airep.com.au
SUMMARY:AIR EP Lower EP Crop Walk (9 September 2025)
DESCRIPTION:
URL:https://airep.com.au/event/air-ep-lower-ep-crop-walk/
LOCATION:SA
CATEGORIES:Event
ORGANIZER;CN="Rebekah Peters":MAILTO:projectofficer@airep.com.au
END:VEVENT
BEGIN:VEVENT
DTSTART;TZID=Australia/Adelaide:20250910T080000
DTEND;TZID=Australia/Adelaide:20250910T170000
DTSTAMP:20260425T052236
CREATED:20250505T050037Z
LAST-MODIFIED:20250617T042203Z
UID:10000409-1757491200-1757523600@airep.com.au
SUMMARY:SARDI Minnipa Ag Centre Annual Field Day\, Minnipa (10 September 2025)
DESCRIPTION:
URL:https://airep.com.au/event/sardi-minnipa-ag-centre-annual-field-day-3/
LOCATION:Minnipa Agricultural Centre\, 226 McKenzie Road\, Minnipa\, SA\, 5654\, Australia
CATEGORIES:Event
ORGANIZER;CN="Nicole Baty":MAILTO:nicole.baty@sa.gov.au
END:VEVENT
BEGIN:VEVENT
DTSTART;VALUE=DATE:20250922
DTEND;VALUE=DATE:20250923
DTSTAMP:20260425T052236
CREATED:20250912T015738Z
LAST-MODIFIED:20250915T050115Z
UID:10000440-1758499200-1758585599@airep.com.au
SUMMARY:Minnipa Sticky Beak Day (22 September 2025)
DESCRIPTION:
URL:https://airep.com.au/event/minnipa-sticky-beak-day-22-september-2025/
LOCATION:SA
END:VEVENT
BEGIN:VEVENT
DTSTART;TZID=Australia/Adelaide:20250924T103000
DTEND;TZID=Australia/Adelaide:20250924T160000
DTSTAMP:20260425T052236
CREATED:20250825T071203Z
LAST-MODIFIED:20250915T050951Z
UID:10000431-1758709800-1758729600@airep.com.au
SUMMARY:Charra Goode Sticky Beak Day (24 September 2025)
DESCRIPTION:
URL:https://airep.com.au/event/charra-goode-sticky-beak-day-26-september-2025/
LOCATION:SA
END:VEVENT
BEGIN:VEVENT
DTSTART;VALUE=DATE:20250925
DTEND;VALUE=DATE:20250926
DTSTAMP:20260425T052236
CREATED:20250825T070238Z
LAST-MODIFIED:20250922T022650Z
UID:10000428-1758758400-1758844799@airep.com.au
SUMMARY:Roberts/Verran Sticky Beak Day (25 September 2025)
DESCRIPTION:
URL:https://airep.com.au/event/roberts-verran-sticky-beak-day-25-september-2025/
LOCATION:SA
END:VEVENT
BEGIN:VEVENT
DTSTART;TZID=Australia/Adelaide:20250925T090000
DTEND;TZID=Australia/Adelaide:20250925T170000
DTSTAMP:20260425T052236
CREATED:20250825T070649Z
LAST-MODIFIED:20250915T050256Z
UID:10000429-1758790800-1758819600@airep.com.au
SUMMARY:Far West Sticky Beak Day (25 September 2025)
DESCRIPTION:
URL:https://airep.com.au/event/far-west-sticky-beak-day-25-september-2025/
LOCATION:SA
END:VEVENT
BEGIN:VEVENT
DTSTART;TZID=Australia/Adelaide:20250926T083000
DTEND;TZID=Australia/Adelaide:20250926T163000
DTSTAMP:20260425T052236
CREATED:20250825T071014Z
LAST-MODIFIED:20250924T003614Z
UID:10000430-1758875400-1758904200@airep.com.au
SUMMARY:Franklin Harbour Sticky Beak Day (26 September 2025)
DESCRIPTION:
URL:https://airep.com.au/event/franklin-harbour-sticky-beak-day-26-september-2025/
LOCATION:SA
END:VEVENT
BEGIN:VEVENT
DTSTART;VALUE=DATE:20251002
DTEND;VALUE=DATE:20251003
DTSTAMP:20260425T052236
CREATED:20250902T023738Z
LAST-MODIFIED:20250928T234654Z
UID:10000436-1759363200-1759449599@airep.com.au
SUMMARY:Rudall-Tuckey Ag Bureau Sticky Beak (2 October 2025)
DESCRIPTION:
URL:https://airep.com.au/event/rudall-tucky-ag-bureau-sticky-beak-2-october-2025/
LOCATION:SA
END:VEVENT
END:VCALENDAR