BEGIN:VCALENDAR
VERSION:2.0
PRODID:-//AIR EP - ECPv6.15.18//NONSGML v1.0//EN
CALSCALE:GREGORIAN
METHOD:PUBLISH
X-WR-CALNAME:AIR EP
X-ORIGINAL-URL:https://airep.com.au
X-WR-CALDESC:Events for AIR EP
REFRESH-INTERVAL;VALUE=DURATION:PT1H
X-Robots-Tag:noindex
X-PUBLISHED-TTL:PT1H
BEGIN:VTIMEZONE
TZID:Australia/Adelaide
BEGIN:STANDARD
TZOFFSETFROM:+1030
TZOFFSETTO:+0930
TZNAME:ACST
DTSTART:20230401T163000
END:STANDARD
BEGIN:DAYLIGHT
TZOFFSETFROM:+0930
TZOFFSETTO:+1030
TZNAME:ACDT
DTSTART:20230930T163000
END:DAYLIGHT
BEGIN:STANDARD
TZOFFSETFROM:+1030
TZOFFSETTO:+0930
TZNAME:ACST
DTSTART:20240406T163000
END:STANDARD
BEGIN:DAYLIGHT
TZOFFSETFROM:+0930
TZOFFSETTO:+1030
TZNAME:ACDT
DTSTART:20241005T163000
END:DAYLIGHT
BEGIN:STANDARD
TZOFFSETFROM:+1030
TZOFFSETTO:+0930
TZNAME:ACST
DTSTART:20250405T163000
END:STANDARD
BEGIN:DAYLIGHT
TZOFFSETFROM:+0930
TZOFFSETTO:+1030
TZNAME:ACDT
DTSTART:20251004T163000
END:DAYLIGHT
BEGIN:STANDARD
TZOFFSETFROM:+1030
TZOFFSETTO:+0930
TZNAME:ACST
DTSTART:20260404T163000
END:STANDARD
BEGIN:DAYLIGHT
TZOFFSETFROM:+0930
TZOFFSETTO:+1030
TZNAME:ACDT
DTSTART:20261003T163000
END:DAYLIGHT
END:VTIMEZONE
BEGIN:VEVENT
DTSTART;TZID=Australia/Adelaide:20250304T090000
DTEND;TZID=Australia/Adelaide:20250304T120000
DTSTAMP:20260420T155902
CREATED:20241218T064943Z
LAST-MODIFIED:20250224T205847Z
UID:10000391-1741078800-1741089600@airep.com.au
SUMMARY:SARDI Farmer Meeting Lock (4 Mar 2025)
DESCRIPTION:Register now! 💻     https://qrcodes.pro/O94dUm \n  \n  \nWudinna-Changemaker-Workshop-Flyer
URL:https://airep.com.au/event/sardi-farmer-meeting-lock-4-mar-2025/
LOCATION:Lock Football Club\, North Terrace\, Lock\, SA\, 5633\, Australia
CATEGORIES:Event
ORGANIZER;CN="Nicole Baty":MAILTO:nicole.baty@sa.gov.au
END:VEVENT
BEGIN:VEVENT
DTSTART;TZID=Australia/Adelaide:20250303T140000
DTEND;TZID=Australia/Adelaide:20250303T170000
DTSTAMP:20260420T155902
CREATED:20241218T064841Z
LAST-MODIFIED:20250120T043744Z
UID:10000390-1741010400-1741021200@airep.com.au
SUMMARY:SARDI Farmer Meeting Rudall (3 Mar 2025)
DESCRIPTION:Register now! 💻     https://qrcodes.pro/O94dUm \n  \n  \nWudinna-Changemaker-Workshop-Flyer
URL:https://airep.com.au/event/sardi-farmer-meeting-rudall-3-mar-2025/
LOCATION:Rudall Sports Club\, Birdseye Highway\, Rudall\, SA\, 5642\, Australia
CATEGORIES:Event
ORGANIZER;CN="Nicole Baty":MAILTO:nicole.baty@sa.gov.au
END:VEVENT
BEGIN:VEVENT
DTSTART;TZID=Australia/Adelaide:20250227T140000
DTEND;TZID=Australia/Adelaide:20250227T170000
DTSTAMP:20260420T155902
CREATED:20241218T064741Z
LAST-MODIFIED:20241218T064741Z
UID:10000389-1740664800-1740675600@airep.com.au
SUMMARY:SARDI Farmer Meeting Ceduna (27 Feb 2025)
DESCRIPTION:Register now! 💻     https://qrcodes.pro/O94dUm \n  \n  \nWudinna-Changemaker-Workshop-Flyer
URL:https://airep.com.au/event/sardi-farmer-meeting-ceduna-27-feb-2025/
LOCATION:Ceduna Hotel\, 32 O'Loughlin Terrace\, Ceduna\, SA\, 5690\, Australia
CATEGORIES:Event
ORGANIZER;CN="Nicole Baty":MAILTO:nicole.baty@sa.gov.au
END:VEVENT
BEGIN:VEVENT
DTSTART;TZID=Australia/Adelaide:20250226T140000
DTEND;TZID=Australia/Adelaide:20250226T170000
DTSTAMP:20260420T155902
CREATED:20241218T064443Z
LAST-MODIFIED:20250120T043851Z
UID:10000388-1740578400-1740589200@airep.com.au
SUMMARY:SARDI Farmer Meeting Port Kenny (26 Feb 2025)
DESCRIPTION:Register now! 💻     https://qrcodes.pro/O94dUm \n  \n  \nWudinna-Changemaker-Workshop-Flyer
URL:https://airep.com.au/event/sardi-farmer-meeting-port-kenny-26-feb-2025/
LOCATION:Port Kenny Golf Club\, Flinders Highway\, Port Kenny\, SA\, Australia
ORGANIZER;CN="Nicole Baty":MAILTO:nicole.baty@sa.gov.au
GEO:-33.179662191637;134.71210719253
X-APPLE-STRUCTURED-LOCATION;VALUE=URI;X-ADDRESS=Port Kenny Golf Club Flinders Highway Port Kenny SA Australia;X-APPLE-RADIUS=500;X-TITLE=Flinders Highway:geo:134.71210719253,-33.179662191637
END:VEVENT
BEGIN:VEVENT
DTSTART;TZID=Australia/Adelaide:20250225T090000
DTEND;TZID=Australia/Adelaide:20250225T130000
DTSTAMP:20260420T155902
CREATED:20241218T064259Z
LAST-MODIFIED:20250120T044109Z
UID:10000387-1740474000-1740488400@airep.com.au
SUMMARY:SARDI Farmer Meeting Wirrulla (25 Feb 2025)
DESCRIPTION:Register now! 💻     https://qrcodes.pro/O94dUm \n  \n  \nWudinna-Changemaker-Workshop-Flyer
URL:https://airep.com.au/event/sardi-farmer-meeting-wirrulla-25-feb-2025/
LOCATION:Wirrulla Hotel\, 75 Hay Terrace\, Gawler Ranges Road\, Wirrulla\, SA\, 5661\, Australia
CATEGORIES:Event
ORGANIZER;CN="Nicole Baty":MAILTO:nicole.baty@sa.gov.au
END:VEVENT
BEGIN:VEVENT
DTSTART;TZID=Australia/Adelaide:20250224T140000
DTEND;TZID=Australia/Adelaide:20250224T180000
DTSTAMP:20260420T155902
CREATED:20241218T064115Z
LAST-MODIFIED:20250120T042914Z
UID:10000386-1740405600-1740420000@airep.com.au
SUMMARY:SARDI Farmer Meeting Minnipa (24 Feb 2025)
DESCRIPTION:Register now! 💻     https://qrcodes.pro/O94dUm \n  \n  \nWudinna-Changemaker-Workshop-Flyer
URL:https://airep.com.au/event/sardi-farmer-meeting/
LOCATION:Minnipa Sports Club\, 2 Moseley Terrace\, Minnipa\, SA\, 5654\, Australia
CATEGORIES:Event
ORGANIZER;CN="Nicole Baty":MAILTO:nicole.baty@sa.gov.au
END:VEVENT
BEGIN:VEVENT
DTSTART;TZID=Australia/Adelaide:20250213T090000
DTEND;TZID=Australia/Adelaide:20250213T153000
DTSTAMP:20260420T155902
CREATED:20250120T042321Z
LAST-MODIFIED:20250120T052108Z
UID:10000396-1739437200-1739460600@airep.com.au
SUMMARY:AIR EP Pre-sowing Member Days 2025 : Ungarra (13 February 2025)
DESCRIPTION:Register now! 💻     https://qrcodes.pro/O94dUm \n  \n  \nWudinna-Changemaker-Workshop-Flyer
URL:https://airep.com.au/event/ungarramemberday25/
LOCATION:Ungarra Sports Complex\, Moody Centre Rd\, Ungarra\, SA\, 5607\, Australia
END:VEVENT
BEGIN:VEVENT
DTSTART;TZID=Australia/Adelaide:20250212T090000
DTEND;TZID=Australia/Adelaide:20250212T153000
DTSTAMP:20260420T155902
CREATED:20250120T042214Z
LAST-MODIFIED:20250120T051915Z
UID:10000395-1739350800-1739374200@airep.com.au
SUMMARY:AIR EP Pre-sowing Member Days 2025 : Kimba (12 February 2025)
DESCRIPTION:Register now! 💻     https://qrcodes.pro/O94dUm \n  \n  \nWudinna-Changemaker-Workshop-Flyer
URL:https://airep.com.au/event/kimbamemberday25/
LOCATION:Kimba Golf Club\, 225 Buckleboo Rd\, Kimba\, SA\, 5641\, Australia
END:VEVENT
BEGIN:VEVENT
DTSTART;TZID=Australia/Adelaide:20250211T090000
DTEND;TZID=Australia/Adelaide:20250211T153000
DTSTAMP:20260420T155902
CREATED:20241014T045156Z
LAST-MODIFIED:20250120T052010Z
UID:10000379-1739264400-1739287800@airep.com.au
SUMMARY:AIR EP Pre-sowing Member Days 2025 : Wirrulla (11 February 2025)
DESCRIPTION:Register now! 💻     https://qrcodes.pro/O94dUm \n  \n  \nWudinna-Changemaker-Workshop-Flyer
URL:https://airep.com.au/event/wirrullamemberday25/
LOCATION:Wirrulla Sports Club\, Gawler Ranges Rd\, Wirrulla\, SA\, 5661\, Australia
END:VEVENT
BEGIN:VEVENT
DTSTART;TZID=Australia/Adelaide:20250204T080000
DTEND;TZID=Australia/Adelaide:20250204T120000
DTSTAMP:20260420T155902
CREATED:20241219T221946Z
LAST-MODIFIED:20250212T031044Z
UID:10000394-1738656000-1738670400@airep.com.au
SUMMARY:AWI Extension SA/Livestock SA - Sticky Beak day (4 February 2025)
DESCRIPTION:Register now! 💻     https://qrcodes.pro/O94dUm \n  \n  \nWudinna-Changemaker-Workshop-Flyer
URL:https://airep.com.au/event/awi-extension-sa-livestock-sa-sticky-beak-day-4-february-2025/
LOCATION:Mount Cooper
END:VEVENT
BEGIN:VEVENT
DTSTART;TZID=Australia/Adelaide:20241212T080000
DTEND;TZID=Australia/Adelaide:20241212T100000
DTSTAMP:20260420T155902
CREATED:20241031T213003Z
LAST-MODIFIED:20241110T235541Z
UID:10000381-1733990400-1733997600@airep.com.au
SUMMARY:GPSA/Fat Farmers Community BBQ Cowell 12 December 2024
DESCRIPTION:Register now! 💻     https://qrcodes.pro/O94dUm \n  \n  \nWudinna-Changemaker-Workshop-Flyer
URL:https://airep.com.au/event/gpsabbqcowell/
LOCATION:SA
END:VEVENT
BEGIN:VEVENT
DTSTART;TZID=Australia/Adelaide:20241211T080000
DTEND;TZID=Australia/Adelaide:20241211T100000
DTSTAMP:20260420T155902
CREATED:20241110T213003Z
LAST-MODIFIED:20241110T235631Z
UID:10000383-1733904000-1733911200@airep.com.au
SUMMARY:GPSA/Fat Farmers Community BBQ Minnipa 11 December 2024
DESCRIPTION:Register now! 💻     https://qrcodes.pro/O94dUm \n  \n  \nWudinna-Changemaker-Workshop-Flyer
URL:https://airep.com.au/event/gpsabbqminnipa/
LOCATION:Minnipa Sports Club\, 2 Moseley Terrace\, Minnipa\, SA\, 5654\, Australia
END:VEVENT
BEGIN:VEVENT
DTSTART;TZID=Australia/Adelaide:20241210T080000
DTEND;TZID=Australia/Adelaide:20241210T100000
DTSTAMP:20260420T155902
CREATED:20241109T213005Z
LAST-MODIFIED:20241110T235708Z
UID:10000384-1733817600-1733824800@airep.com.au
SUMMARY:GPSA/Fat Farmers Community BBQ Streaky Bay 10 December 2024
DESCRIPTION:Register now! 💻     https://qrcodes.pro/O94dUm \n  \n  \nWudinna-Changemaker-Workshop-Flyer
URL:https://airep.com.au/event/gpsabbqstreakybay/
LOCATION:SA
END:VEVENT
BEGIN:VEVENT
DTSTART;TZID=Australia/Adelaide:20241209T080000
DTEND;TZID=Australia/Adelaide:20241209T100000
DTSTAMP:20260420T155902
CREATED:20241015T223850Z
LAST-MODIFIED:20241110T235807Z
UID:10000382-1733731200-1733738400@airep.com.au
SUMMARY:GPSA/Fat Farmers Community BBQ Ceduna 9 December 2024
DESCRIPTION:Register now! 💻     https://qrcodes.pro/O94dUm \n  \n  \nWudinna-Changemaker-Workshop-Flyer
URL:https://airep.com.au/event/gpsabbqceduna/
LOCATION:Ceduna Blues Football Club\, Marchant St\, Ceduna\, SA\, 5690\, Australia
END:VEVENT
BEGIN:VEVENT
DTSTART;TZID=Australia/Adelaide:20241203T090000
DTEND;TZID=Australia/Adelaide:20241203T140000
DTSTAMP:20260420T155902
CREATED:20241118T064850Z
LAST-MODIFIED:20241120T213250Z
UID:10000385-1733216400-1733234400@airep.com.au
SUMMARY:"From Good to Great Teamwork" Workshop - Wudinna (3 December 2024)
DESCRIPTION:Register now! 💻     https://qrcodes.pro/O94dUm \n  \n  \nWudinna-Changemaker-Workshop-Flyer
URL:https://airep.com.au/event/pinion-workshop-from-good-to-great-teamwork/
LOCATION:SA
END:VEVENT
BEGIN:VEVENT
DTSTART;TZID=Australia/Adelaide:20241022T083000
DTEND;TZID=Australia/Adelaide:20241022T170000
DTSTAMP:20260420T155902
CREATED:20241014T224710Z
LAST-MODIFIED:20241014T224710Z
UID:10000380-1729585800-1729616400@airep.com.au
SUMMARY:Wangary Ag Bureau Annual Crop Competition 22 October 2024
DESCRIPTION:Register now! 💻     https://qrcodes.pro/O94dUm \n  \n  \nWudinna-Changemaker-Workshop-Flyer
URL:https://airep.com.au/event/wangary-ag-bureau-annual-crop-competition-22-october-2024/
LOCATION:4525 Flinders Highway\, Wangary\, 4525 Flinders Highway\, Wangary\, SA\, 5607\, Australia
END:VEVENT
BEGIN:VEVENT
DTSTART;TZID=Australia/Adelaide:20241009T083000
DTEND;TZID=Australia/Adelaide:20241009T093000
DTSTAMP:20260420T155902
CREATED:20240906T010133Z
LAST-MODIFIED:20240920T040037Z
UID:10000373-1728462600-1728466200@airep.com.au
SUMMARY:AIR EP AGM 9 Oct 2024
DESCRIPTION:Register now! 💻     https://qrcodes.pro/O94dUm \n  \n  \nWudinna-Changemaker-Workshop-Flyer
URL:https://airep.com.au/event/air-ep-agm-9-oct-2024/
LOCATION:SA
END:VEVENT
BEGIN:VEVENT
DTSTART;TZID=Australia/Adelaide:20241002T093000
DTEND;TZID=Australia/Adelaide:20241002T133000
DTSTAMP:20260420T155902
CREATED:20240715T062007Z
LAST-MODIFIED:20240924T055230Z
UID:10000366-1727861400-1727875800@airep.com.au
SUMMARY:AIR EP/GRDC Frost Field Day (2 Oct 2024) CANCELLED
DESCRIPTION:Register now! 💻     https://qrcodes.pro/O94dUm \n  \n  \nWudinna-Changemaker-Workshop-Flyer
URL:https://airep.com.au/event/frostfd24/
LOCATION:SA
CATEGORIES:Event
ORGANIZER;CN="Rebekah Fatchen":MAILTO:projectofficer@airep.com.au
END:VEVENT
BEGIN:VEVENT
DTSTART;TZID=Australia/Adelaide:20241001T110000
DTEND;TZID=Australia/Adelaide:20241001T170000
DTSTAMP:20260420T155902
CREATED:20240814T065205Z
LAST-MODIFIED:20240930T012740Z
UID:10000371-1727780400-1727802000@airep.com.au
SUMMARY:Port Kenny Sticky Beak (1 Oct 2024)
DESCRIPTION:Register now! 💻     https://qrcodes.pro/O94dUm \n  \n  \nWudinna-Changemaker-Workshop-Flyer
URL:https://airep.com.au/event/port-kenny-sticky-beak-17-sept-2024/
LOCATION:SA
END:VEVENT
BEGIN:VEVENT
DTSTART;TZID=Australia/Adelaide:20240926T080000
DTEND;TZID=Australia/Adelaide:20240926T170000
DTSTAMP:20260420T155902
CREATED:20240814T051804Z
LAST-MODIFIED:20240920T033132Z
UID:10000370-1727337600-1727370000@airep.com.au
SUMMARY:Franklin Harbour Ag Bureau Sticky Beak (26 Sept 2024)
DESCRIPTION:Register now! 💻     https://qrcodes.pro/O94dUm \n  \n  \nWudinna-Changemaker-Workshop-Flyer
URL:https://airep.com.au/event/franklin-harbor-ag-bureau-sticky-beak-26-sept-2024/
LOCATION:SA
END:VEVENT
BEGIN:VEVENT
DTSTART;VALUE=DATE:20240925
DTEND;VALUE=DATE:20240926
DTSTAMP:20260420T155902
CREATED:20240814T051629Z
LAST-MODIFIED:20240923T013437Z
UID:10000369-1727222400-1727308799@airep.com.au
SUMMARY:BFIG Cropwalk (25 Sept 2024)
DESCRIPTION:Register now! 💻     https://qrcodes.pro/O94dUm \n  \n  \nWudinna-Changemaker-Workshop-Flyer
URL:https://airep.com.au/event/bfig-cropwalk-25-sept-2024/
LOCATION:Buckleboo Sports Club\, Buckleboo Park\, Buckleboo\, SA\, Australia
END:VEVENT
BEGIN:VEVENT
DTSTART;TZID=Australia/Adelaide:20240924T090000
DTEND;TZID=Australia/Adelaide:20240924T130000
DTSTAMP:20260420T155902
CREATED:20240906T045159Z
LAST-MODIFIED:20240920T033202Z
UID:10000374-1727168400-1727182800@airep.com.au
SUMMARY:Elliston Sticky Beak Day 24 Sept 2024
DESCRIPTION:Register now! 💻     https://qrcodes.pro/O94dUm \n  \n  \nWudinna-Changemaker-Workshop-Flyer
URL:https://airep.com.au/event/elliston-sticky-beak-day-24-sept-2024/
LOCATION:SA
END:VEVENT
BEGIN:VEVENT
DTSTART;TZID=Australia/Adelaide:20240923T124500
DTEND;TZID=Australia/Adelaide:20240923T180000
DTSTAMP:20260420T155902
CREATED:20240917T044429Z
LAST-MODIFIED:20240917T044643Z
UID:10000377-1727095500-1727114400@airep.com.au
SUMMARY:Minnipa Sticky Beak Day (23 Sept 2024)
DESCRIPTION:Register now! 💻     https://qrcodes.pro/O94dUm \n  \n  \nWudinna-Changemaker-Workshop-Flyer
URL:https://airep.com.au/event/minnipa-sticky-beak-day-23-sept-2024/
LOCATION:SA
END:VEVENT
BEGIN:VEVENT
DTSTART;TZID=Australia/Adelaide:20240920T090000
DTEND;TZID=Australia/Adelaide:20240924T120000
DTSTAMP:20260420T155902
CREATED:20240920T005824Z
LAST-MODIFIED:20240920T005824Z
UID:10000378-1726822800-1727179200@airep.com.au
SUMMARY:Options for frosted crops (24 Sept 2024)
DESCRIPTION:Register now! 💻     https://qrcodes.pro/O94dUm \n  \n  \nWudinna-Changemaker-Workshop-Flyer
URL:https://airep.com.au/event/options-for-frosted-crops-24-sept-2024/
LOCATION:SA
END:VEVENT
BEGIN:VEVENT
DTSTART;TZID=Australia/Adelaide:20240920T090000
DTEND;TZID=Australia/Adelaide:20240920T150000
DTSTAMP:20260420T155902
CREATED:20240623T234628Z
LAST-MODIFIED:20240828T051518Z
UID:10000361-1726822800-1726844400@airep.com.au
SUMMARY:GRDC Harvester Set Up Workshop - Cummins (20 Sept 2024)
DESCRIPTION:Register now! 💻     https://qrcodes.pro/O94dUm \n  \n  \nWudinna-Changemaker-Workshop-Flyer
URL:https://airep.com.au/event/grdc-harvester-set-up-workshop-cummins/
LOCATION:4197 Bratten Way Cummins\, 4197 Bratten Way\, Cummins\, SA\, Australia
ORGANIZER;CN="Rebekah Fatchen":MAILTO:projectofficer@airep.com.au
END:VEVENT
BEGIN:VEVENT
DTSTART;TZID=Australia/Adelaide:20240919T090000
DTEND;TZID=Australia/Adelaide:20240919T170000
DTSTAMP:20260420T155902
CREATED:20240911T234857Z
LAST-MODIFIED:20240911T234857Z
UID:10000376-1726736400-1726765200@airep.com.au
SUMMARY:Roberts/Verran Ag Bureau Sticky Beak (19 Sept 2024)
DESCRIPTION:Register now! 💻     https://qrcodes.pro/O94dUm \n  \n  \nWudinna-Changemaker-Workshop-Flyer
URL:https://airep.com.au/event/roberts-verran-ag-bureau-sticky-beak-19-sept-2024-2/
LOCATION:SA
END:VEVENT
BEGIN:VEVENT
DTSTART;TZID=Australia/Adelaide:20240919T090000
DTEND;TZID=Australia/Adelaide:20240919T150000
DTSTAMP:20260420T155902
CREATED:20240624T001503Z
LAST-MODIFIED:20240828T051539Z
UID:10000362-1726736400-1726758000@airep.com.au
SUMMARY:GRDC Harvester Set Up Workshop - Wudinna (19 Sept 2024)
DESCRIPTION:Register now! 💻     https://qrcodes.pro/O94dUm \n  \n  \nWudinna-Changemaker-Workshop-Flyer
URL:https://airep.com.au/event/grdcharvesterwudinna/
LOCATION:Biggs Farm\, 107 Ucontitchie Road\, Wudinna\, South Australia\, Australia
ORGANIZER;CN="Naomi Scholz":MAILTO:eo@airep.com.au
END:VEVENT
BEGIN:VEVENT
DTSTART;VALUE=DATE:20240919
DTEND;VALUE=DATE:20240920
DTSTAMP:20260420T155902
CREATED:20240814T050938Z
LAST-MODIFIED:20240906T051217Z
UID:10000367-1726704000-1726790399@airep.com.au
SUMMARY:Far West Sticky Beak Day (19 Sept 2024)
DESCRIPTION:Register now! 💻     https://qrcodes.pro/O94dUm \n  \n  \nWudinna-Changemaker-Workshop-Flyer
URL:https://airep.com.au/event/far-west-sticky-beak-day-19-sept-2024/
LOCATION:SA
END:VEVENT
BEGIN:VEVENT
DTSTART;TZID=Australia/Adelaide:20240918T130000
DTEND;TZID=Australia/Adelaide:20240918T180000
DTSTAMP:20260420T155902
CREATED:20240814T051112Z
LAST-MODIFIED:20240916T042450Z
UID:10000368-1726664400-1726682400@airep.com.au
SUMMARY:Goode Ag Bureau Sticky Beak (18 Sept 2024)
DESCRIPTION:Register now! 💻     https://qrcodes.pro/O94dUm \n  \n  \nWudinna-Changemaker-Workshop-Flyer
URL:https://airep.com.au/event/goode-ag-bureau-sticky-beak-20-sept-2024/
LOCATION:SA
END:VEVENT
BEGIN:VEVENT
DTSTART;TZID=Australia/Adelaide:20240918T090000
DTEND;TZID=Australia/Adelaide:20240918T150000
DTSTAMP:20260420T155902
CREATED:20240624T021935Z
LAST-MODIFIED:20240828T051715Z
UID:10000363-1726650000-1726671600@airep.com.au
SUMMARY:GRDC Harvester Set Up Workshop - Kimba (18 Sept 2024)
DESCRIPTION:Register now! 💻     https://qrcodes.pro/O94dUm \n  \n  \nWudinna-Changemaker-Workshop-Flyer
URL:https://airep.com.au/event/grdcharvesterkimba/
LOCATION:Willmotts\, 382 Buckleboo Road\, Kimba\, South Australia\, 5641\, Australia
ORGANIZER;CN="Amy Wright":MAILTO:amy.wright@airep.com.au
END:VEVENT
END:VCALENDAR