BEGIN:VCALENDAR
VERSION:2.0
PRODID:-//AIR EP - ECPv6.15.18//NONSGML v1.0//EN
CALSCALE:GREGORIAN
METHOD:PUBLISH
X-WR-CALNAME:AIR EP
X-ORIGINAL-URL:https://airep.com.au
X-WR-CALDESC:Events for AIR EP
REFRESH-INTERVAL;VALUE=DURATION:PT1H
X-Robots-Tag:noindex
X-PUBLISHED-TTL:PT1H
BEGIN:VTIMEZONE
TZID:Australia/Adelaide
BEGIN:STANDARD
TZOFFSETFROM:+1030
TZOFFSETTO:+0930
TZNAME:ACST
DTSTART:20250405T163000
END:STANDARD
BEGIN:DAYLIGHT
TZOFFSETFROM:+0930
TZOFFSETTO:+1030
TZNAME:ACDT
DTSTART:20251004T163000
END:DAYLIGHT
BEGIN:STANDARD
TZOFFSETFROM:+1030
TZOFFSETTO:+0930
TZNAME:ACST
DTSTART:20260404T163000
END:STANDARD
BEGIN:DAYLIGHT
TZOFFSETFROM:+0930
TZOFFSETTO:+1030
TZNAME:ACDT
DTSTART:20261003T163000
END:DAYLIGHT
BEGIN:STANDARD
TZOFFSETFROM:+1030
TZOFFSETTO:+0930
TZNAME:ACST
DTSTART:20270403T163000
END:STANDARD
BEGIN:DAYLIGHT
TZOFFSETFROM:+0930
TZOFFSETTO:+1030
TZNAME:ACDT
DTSTART:20271002T163000
END:DAYLIGHT
END:VTIMEZONE
BEGIN:VEVENT
DTSTART;TZID=Australia/Adelaide:20260330T090000
DTEND;TZID=Australia/Adelaide:20260330T150000
DTSTAMP:20260425T115555
CREATED:20260311T070324Z
LAST-MODIFIED:20260326T225706Z
UID:10000471-1774861200-1774882800@airep.com.au
SUMMARY:Paddock Proof: Safe trials\, real results workshop (30 March 2026)
DESCRIPTION:Are you getting the best out of your soils? \nIn this interactive workshop\, learn how to run simple paddock experiments to see what improves soil function\, crop performance and input efficiency. This hands-on\, locally relevant session will show you how to set up successful on-farm trials\, monitor what matters\, and focus on outcomes that support better decisions on your farm. \n  \nSarah has question that you can ponder in preparation for the workshop \n“What problem on your farm keeps showing up – and what do you think is really driving it?” \n				\n	Date: Monday 30 March 2026 \nTime: 9am – 3pm\, including a paddock visit. Registrations from 8:30am \nMorning tea & Lunch included \nLocation: Cleve Golf Club \nContact: Bek Peters\, 0447973489\, projectofficer@airep.com.au \n\n			Registration
URL:https://airep.com.au/event/paddock-proof-safe-trials-real-results-workshop/
LOCATION:Cleve Golf Club
ORGANIZER;CN="Rebekah Peters":MAILTO:projectofficer@airep.com.au
END:VEVENT
BEGIN:VEVENT
DTSTART;TZID=Australia/Adelaide:20260501T123000
DTEND;TZID=Australia/Adelaide:20260501T131500
DTSTAMP:20260425T115555
CREATED:20260424T005501Z
LAST-MODIFIED:20260424T012606Z
UID:10000478-1777638600-1777641300@airep.com.au
SUMMARY:Online Climate Forum (1 May\, 2026)
DESCRIPTION:Friday Climate Forum: Seasonal Outlook for the Eyre Peninsula \nJoin us for our first Friday Climate Forum\, part of a new webinar series being delivered over the next couple of years through the Sustainable Agriculture Program. \nSeasonal Risk Agronomist with Agriculture Victoria\, Dale Grey\, will provide an update on the seasonal outlook for the Eyre Peninsula. Dale will discuss the historic timing of the break\, current soil moisture\, oceanic and atmospheric climate indicators\, and what the models are suggesting for the next six months. \nImportantly\, he will also unpack what all the talk of a “Super El Niño” means or doesn’t mean for Eyre Peninsula farming businesses. \nWe’d also love to hear from you. Please send through your weather\, climate and seasonal risk questions\, or topic suggestions for future webinars\, and we’ll work our way through them across the series. \nRegister Here https://tr.ee/yAMNLp \nYou can submit your questions when you register for the webinar or directly to Naomi at eo@airep.com.au
URL:https://airep.com.au/event/online-climate-forum-1-may-2026/
LOCATION:https://events.teams.microsoft.com/event/5d8b4770-cc7e-44b6-afd0-58fe993e803c@2e50619f-9921-4ec8-9f5d-aec19b9db15c
ORGANIZER;CN="Naomi Scholz":MAILTO:eo@airep.com.au
END:VEVENT
BEGIN:VEVENT
DTSTART;TZID=Australia/Adelaide:20260522T123000
DTEND;TZID=Australia/Adelaide:20260522T131500
DTSTAMP:20260425T115555
CREATED:20260424T055200Z
LAST-MODIFIED:20260424T055200Z
UID:10000479-1779453000-1779455700@airep.com.au
SUMMARY:Online Climate Forum #2 (12 May\, 2026)
DESCRIPTION:Friday Climate Forum: Seasonal Outlook for the Eyre Peninsula \nJoin us for our second Friday Climate Forum\, part of a new webinar series being delivered over the next couple of years through the Sustainable Agriculture Program. \nPlease send through your weather\, climate and seasonal risk questions\, or topic suggestions for future webinars\, and we’ll work our way through them across the series. \nRegister Here https://tr.ee/s5vkk3 \nYou can submit your questions when you register for the webinar or directly to Naomi at eo@airep.com.au
URL:https://airep.com.au/event/online-climate-forum-2-12-may-2026/
LOCATION:https://events.teams.microsoft.com/event/d37b56a6-22b1-4262-ac15-b979f9ee5afe@2e50619f-9921-4ec8-9f5d-aec19b9db15c
ORGANIZER;CN="Naomi Scholz":MAILTO:eo@airep.com.au
END:VEVENT
BEGIN:VEVENT
DTSTART;TZID=Australia/Adelaide:20260602T084500
DTEND;TZID=Australia/Adelaide:20260602T143000
DTSTAMP:20260425T115555
CREATED:20260315T232334Z
LAST-MODIFIED:20260402T041958Z
UID:10000472-1780389900-1780410600@airep.com.au
SUMMARY:Ri$ky Business – A Farm Business Simulation Game for Better Decisions\, Wirrulla (2 June 2026)
DESCRIPTION:Time: 8.45am-2.30pm \nCost: Free to attend\, you will need to bring a laptop per ‘team’ or farm business (participants will need to pre-load an excel file prior to attending\, to be supplied on registration). Morning tea and lunch provided. \nRegister: by Thursday 26 March \nContact: Naomi for more info eo@airep.com.au or phone 0428 540 670 \nRi$ky Business – A Farm Business Simulation Game for Better Decisions \nRi$ky Business is a practical\, hands-on workshop designed to help farmers improve their business and risk management skills. \nIn this fast-paced simulation\, you run a farm business through several seasons in just one day. Every team starts with the same farm\, the same resources and the same finances. From there\, your success depends on the decisions you make. The farm with the strongest net worth at the end wins. \nAlong the way you’ll face the same challenges farmers deal with every year – seasonal variability\, price volatility\, expansion decisions and financing pressures. The difference is you can test strategies and see the financial outcomes without risking real money. \nYou’ll make decisions about enterprise mix\, forward pricing\, adopting new technology\, purchasing land\, financing growth and off-farm investment. \nThe real value is seeing how these decisions affect profit\, cash flow and long-term wealth. Farmers often say the biggest insight is experiencing many seasons of management in one day and seeing clearly what good – and poor – management looks like. It’s both an insightful and fun workshop. \nIf you want to sharpen your business thinking and manage risk more confidently\, Ri$ky Business is a powerful learning experience for farmers. Great learning for both young and the more experienced farmers. \nFacilitator: Mike Krause\, P2PAgri \nMike Krause is CEO and founder of P2PAgri\, drawing on more than 35 years of experience improving farm business profitability. Ri$ky Business\, P2PAgri software and the ‘Farming the Business’ book have been used by over 2\,000 farmers across Australia. Mike has also trained bankers\, accountants\, and agricultural advisers nationwide with this Ri$ky Business Workshop. \n  \n  \n			\n					Play Video\n	This project is jointly funded by the Australian Government’s Future Drought Fund and the Government of South Australia.
URL:https://airep.com.au/event/riky-business-a-farm-business-simulation-game-for-better-decisions-30-march-wirrulla/
LOCATION:Wirrulla Hotel\, 75 Hay Terrace\, Gawler Ranges Road\, Wirrulla\, SA\, 5661\, Australia
END:VEVENT
BEGIN:VEVENT
DTSTART;TZID=Australia/Adelaide:20260603T084500
DTEND;TZID=Australia/Adelaide:20260603T143000
DTSTAMP:20260425T115555
CREATED:20260315T232810Z
LAST-MODIFIED:20260402T041607Z
UID:10000473-1780476300-1780497000@airep.com.au
SUMMARY:Ri$ky Business – A Farm Business Simulation Game for Better Decisions\, Wudinna (3 June 2026)
DESCRIPTION:Time: 8.45am-2.30pm \nCost: Free to attend\, you will need to bring a laptop per ‘team’ or farm business (participants will need to pre-load an excel file prior to attending\, to be supplied on registration). Morning tea and lunch provided. \nRegister: by Thursday 28 May \nContact: Naomi for more info eo@airep.com.au or phone 0428 540 670 \nRi$ky Business – A Farm Business Simulation Game for Better Decisions \nRi$ky Business is a practical\, hands-on workshop designed to help farmers improve their business and risk management skills. \nIn this fast-paced simulation\, you run a farm business through several seasons in just one day. Every team starts with the same farm\, the same resources and the same finances. From there\, your success depends on the decisions you make. The farm with the strongest net worth at the end wins. \nAlong the way you’ll face the same challenges farmers deal with every year – seasonal variability\, price volatility\, expansion decisions and financing pressures. The difference is you can test strategies and see the financial outcomes without risking real money. \nYou’ll make decisions about enterprise mix\, forward pricing\, adopting new technology\, purchasing land\, financing growth and off-farm investment. \nThe real value is seeing how these decisions affect profit\, cash flow and long-term wealth. Farmers often say the biggest insight is experiencing many seasons of management in one day and seeing clearly what good – and poor – management looks like. It’s both an insightful and fun workshop. \nIf you want to sharpen your business thinking and manage risk more confidently\, Ri$ky Business is a powerful learning experience for farmers. Great learning for both young and the more experienced farmers. \nFacilitator: Mike Krause\, P2PAgri \nMike Krause is CEO and founder of P2PAgri\, drawing on more than 35 years of experience improving farm business profitability. Ri$ky Business\, P2PAgri software and the ‘Farming the Business’ book have been used by over 2\,000 farmers across Australia. Mike has also trained bankers\, accountants\, and agricultural advisers nationwide with this Ri$ky Business Workshop. \n			\n					Play Video\n	This project is jointly funded by the Australian Government’s Future Drought Fund and the Government of South Australia.
URL:https://airep.com.au/event/riky-business-a-farm-business-simulation-game-for-better-decisions-30-march-wirrulla-copy/
LOCATION:Wudinna Telecentre\, 44 Eyre Highway\, Wudinna\, SA\, 5652\, Australia
END:VEVENT
BEGIN:VEVENT
DTSTART;TZID=Australia/Adelaide:20260604T084500
DTEND;TZID=Australia/Adelaide:20260604T143000
DTSTAMP:20260425T115555
CREATED:20260315T233134Z
LAST-MODIFIED:20260402T041732Z
UID:10000474-1780562700-1780583400@airep.com.au
SUMMARY:Ri$ky Business – A Farm Business Simulation Game for Better Decisions\, Rudall (4 June 2026)
DESCRIPTION:Time: 8.45am-2.30pm \nCost: Free to attend\, you will need to bring a laptop per ‘team’ or farm business (participants will need to pre-load an excel file prior to attending\, to be supplied on registration). Morning tea and lunch provided. \nRegister: by Thursday 28 May \nContact: Naomi for more info eo@airep.com.au or phone 0428 540 670 \nRi$ky Business – A Farm Business Simulation Game for Better Decisions \nRi$ky Business is a practical\, hands-on workshop designed to help farmers improve their business and risk management skills. \nIn this fast-paced simulation\, you run a farm business through several seasons in just one day. Every team starts with the same farm\, the same resources and the same finances. From there\, your success depends on the decisions you make. The farm with the strongest net worth at the end wins. \nAlong the way you’ll face the same challenges farmers deal with every year – seasonal variability\, price volatility\, expansion decisions and financing pressures. The difference is you can test strategies and see the financial outcomes without risking real money. \nYou’ll make decisions about enterprise mix\, forward pricing\, adopting new technology\, purchasing land\, financing growth and off-farm investment. \nThe real value is seeing how these decisions affect profit\, cash flow and long-term wealth. Farmers often say the biggest insight is experiencing many seasons of management in one day and seeing clearly what good – and poor – management looks like. It’s both an insightful and fun workshop. \nIf you want to sharpen your business thinking and manage risk more confidently\, Ri$ky Business is a powerful learning experience for farmers. Great learning for both young and the more experienced farmers. \nFacilitator: Mike Krause\, P2PAgri \nMike Krause is CEO and founder of P2PAgri\, drawing on more than 35 years of experience improving farm business profitability. Ri$ky Business\, P2PAgri software and the ‘Farming the Business’ book have been used by over 2\,000 farmers across Australia. Mike has also trained bankers\, accountants\, and agricultural advisers nationwide with this Ri$ky Business Workshop. \n  \n			\n					Play Video\n	This project is jointly funded by the Australian Government’s Future Drought Fund and the Government of South Australia.
URL:https://airep.com.au/event/riky-business-a-farm-business-simulation-game-for-better-decisions-30-march-wirrulla-copy-copy/
LOCATION:Rudall Sports Club\, Birdseye Highway\, Rudall\, SA\, 5642\, Australia
END:VEVENT
BEGIN:VEVENT
DTSTART;TZID=Australia/Adelaide:20260604T093000
DTEND;TZID=Australia/Adelaide:20260604T143000
DTSTAMP:20260425T115555
CREATED:20260421T060759Z
LAST-MODIFIED:20260421T060759Z
UID:10000477-1780565400-1780583400@airep.com.au
SUMMARY:Carbon farming explained (4 June 2026)
DESCRIPTION:Come along to two free workshops hosted by the NY\, SAAL and EP Landscape Boards\, and AIR EP to unlock the potential of carbon farming. \n\n\n\n\nAre you curious about how carbon farming can benefit agricultural businesses? \nCome along to one or both free workshops hosted by the Northern and Yorke\, SA Arid Lands and Eyre Peninsula Landscape Boards\, and AIR EP to unlock the potential of carbon farming. These workshops are designed for landholders\, researchers\, industry\, students or anyone else who wants to understand the world of carbon farming and emission reduction – from a primary production lens. \nWorkshop 1: Beginner’s Guide to Carbon Farming \n9:30am – 12pm \n· What is carbon farming? Understand the concept and its applications. \n· Benefits for on-farm productivity: Explore how carbon farming can benefit farm efficiency and output. \n· Generating carbon credits: Can farmers earn credits\, and what to consider. \n· Carbon footprint: Learn what it is and why or why not to reduce it. \nLunch\n12pm – 12:30pm \nWorkshop 2: Carbon Calculator Deeper Dive\n12:30pm – 2:30pm \n· Calculating carbon footprints: Learn how to measure farm emission intensity. \n· Carbon farming tools: Explore tools including LOOC-C and PLANR\, and run some back of the envelope numbers on potential ACCU projects. \nThese workshops are funded by the Commonwealth of Australia through the Department of Climate Change\, Energy\, the Environment\, and Water under the Carbon Farming Outreach Program. \n\nReserve your place here \nCarbon farming explained – Waite Tickets\, Thursday\, June 4  •  9:30 AM – 2:30 PM | Eventbrite
URL:https://airep.com.au/event/carbon-farming-explained-4-june-2026/
LOCATION:Charles Hawker Building\, Waite\, Waite Road\, Urrbrae\, SA\, 5064\, Australia
END:VEVENT
BEGIN:VEVENT
DTSTART;VALUE=DATE:20260713
DTEND;VALUE=DATE:20260718
DTSTAMP:20260425T115555
CREATED:20251028T225345Z
LAST-MODIFIED:20260128T231055Z
UID:10000446-1783900800-1784332799@airep.com.au
SUMMARY:Australian Association of Animal Science Conference Adelaide (13-17 July 2026)
DESCRIPTION:The Australian Association of Animal Sciences (AAAS) biennial Conference \nHosted at Hotel Grand Chancellor in Adelaide by the University of Adelaide and SARDI/PIRSA
URL:https://airep.com.au/event/aaas-conference/
LOCATION:Adelaide\, 1 Main Street\, Adelaide\, SA\, 1234\, Australia
END:VEVENT
BEGIN:VEVENT
DTSTART;VALUE=DATE:20260908
DTEND;VALUE=DATE:20260909
DTSTAMP:20260425T115555
CREATED:20260402T041028Z
LAST-MODIFIED:20260402T041028Z
UID:10000476-1788825600-1788911999@airep.com.au
SUMMARY:AIR EP Lower EP Crop Walk (8 September 2026)
DESCRIPTION:Join us for visits to current research sites on Lower Eyre Peninsula\, with lead researchers and guest speakers. \nWe are currently planning the program for 2026\, for more information please contact Rebekah Peters 0447 973 489.
URL:https://airep.com.au/event/air-ep-lower-ep-crop-walk-8-september-2026/
LOCATION:SA
END:VEVENT
BEGIN:VEVENT
DTSTART;VALUE=DATE:20260909
DTEND;VALUE=DATE:20260910
DTSTAMP:20260425T115555
CREATED:20260401T233905Z
LAST-MODIFIED:20260401T233905Z
UID:10000475-1788912000-1788998399@airep.com.au
SUMMARY:SARDI MAC Annual Field Day (Minnipa\, 9 Sept 2026)
DESCRIPTION:Check out the research SARDI are conducting at the Minnipa Agricultural Centre\, with special guest speakers and plenty of time for networking. \nFor more information\, please contact Amanda Cook on 8680 6200.
URL:https://airep.com.au/event/sardi-mac-annual-field-day-minnipa-9-sept-2026/
LOCATION:Minnipa Agricultural Centre\, 226 McKenzie Road\, Minnipa\, SA\, 5654\, Australia
END:VEVENT
END:VCALENDAR